Workbook

Sheet 入力用シート
L1: 入力シート（施設用）
C2: シートに入力をお願いします。
C3: シートには計算式が入っています。
B5: 申請者 | C5: 団体名（法人名）
C6: 代表者名
C7: 所在地（住所）
B8: ※法人名（例：学校法人○○学園・社会福祉法人△△会）、 法人の代表者の職・氏名（例：理事長○○○○）、法人の所在地を記入してください。
B9: 実施義務者 | C9: 事業所名
C10: 代表者名
C11: 所在地（住所）
B12: ※事業所名（例：○○学園高等学校・特別養護老人ホーム△△）、 事業所の代表者の職・氏名（例：校長○○○○・施設長△△△△）、事業所の所在地を記入してください。
B13: 担当者 | C13: 担当者名
C14: 連絡先：電話番号
C15: 連絡先：メールアドレス
B16: ※担当者の所属・氏名（例：事務○○○○）、連絡先電話番号、メールアドレスを記入してください。
B17: 検診 | C17: 検診委託団体名
C18: 検診実施場所
C19: 所在地（住所）
B20: ※検診を委託した団体名、 健診を実施した場所（例：○○学園高等学校、△△病院）と所在地を記入してください。
B21: ※申請時に既に事業が完了しており、実績に基づき精算額で申請を行う場合、 | P21: 【交付決定の通知を受けた後に事業計画に変更等があった場合】
B22: 様式第２号（実施計画書）・様式第３号（予定所要額調書）は不要です | P22: 事業計画変更・休止・廃止・承認申請書/事業計画取下申請書 様式第5号
B23: 補助金交付申請書 様式第１号（予定） | I23: 事業報告書 様式第７号（実績） | P23: （変更）申請日
B24: 申請日 | I24: 報告日 | P24: （当初）申請日
B25: 着手予定年月日 | I25: 着手年月日 | P25: （変更）着手予定年月日
B26: 完成予定日 | I26: 完成日 | P26: （変更）完成予定日
B27: 事業費（円） | I27: 事業費（円） | P27: （変更）事業費（円）
B28: 補助金申請額（円）※ | I28: 補助金申請額（円）※ | P28: （変更）補助金申請額（円）
B29: ※補助金申請額が様式３号の計算と矛盾する場合、セルがピンクになります。 | I29: 事業成果 ※必須 | P29: 変更の理由 ※必須
I30: ※補助金申請額が様式９号の計算と矛盾する場合、セルがピンクになります。 | P30: (1) 補助金の所要額が交付決定額を上回る場合又は２割を超える減がある場合
B31: 健康診断実施計画書 様式第２号（予定） | I31: 健康診断実績書・実施成績書 様式第８号・10号（実績） | P31: (2) 補助事業を休止又は廃止しようとする場合
B32: 箇 所 数 | F32: 箇所 | I32: 箇 所 数 | M32: 箇所 | P32: ※変更の場合は、様式第5号の他、「実施計画書（様式第２号）」
B33: 対象人員(人) | F33: 受診率(％） | I33: 対象人員(人) | M33: 受診率(％） | P33: 「経費の内訳及び所要額調書（様式第３号）」もご提出ください
B34: 受診人員(人) | F34: =IF(D33="","",D34/D33*100) | G34: ％ | I34: 受診人員(人) | M34: =IF(K33="","",K34/K33*100) | N34: ％
B35: 健康診査 | D35: 受診人数（人） | E35: 支出額 （円） | F35: 補助基準 単価(円) | G35: 基準算定額(円) | I35: 健康診査 | K35: 受診人数（人） | L35: 支出額 （円） | M35: 補助基準 単価(円) | N35: 基準算定額(円)
B36: 間接撮影 | C36: レンズカメラ | F36: 454 | G36: =IF(D36="","",D36*F36) | I36: 間接撮影 | J36: レンズカメラ | M36: 454 | N36: =IF(K36="","",K36*M36)
C37: 70mmミラーカメラ | F37: 478 | G37: =IF(D37="","",D37*F37) | J37: 70mmミラーカメラ | M37: 478 | N37: =IF(K37="","",K37*M37)
C38: 100mミラーカメラ | F38: 506 | G38: =IF(D38="","",D38*F38) | J38: 100mミラーカメラ | M38: 506 | N38: =IF(K38="","",K38*M38)
D39: =SUM(D36:D38) -> 0 | E39: =SUM(E36:E38) -> 0 | F39: - | G39: =SUM(G36:G38) -> 0 | K39: =SUM(K36:K38) -> 0 | L39: =SUM(L36:L38) -> 0 | M39: - | N39: =SUM(N36:N38) -> 0
B40: 直接撮影 | F40: 506 | G40: =IF(D40="","",D40*F40) | I40: 直接撮影 | M40: 506 | N40: =IF(K40="","",K40*M40)
B41: デジタル撮影 | F41: 506 | G41: =IF(D41="","",D41*F41) | I41: デジタル撮影 | M41: 506 | N41: =IF(K41="","",K41*M41)
...

Sheet 申請書（1号）
B2: 様式第１号 | R2: 担当者名： | S2: =IF(入力用シート!D13="","",入力用シート!D13)
R3: 連絡先： | S3: =IF(入力用シート!D14="","",入力用シート!D14)
S4: =IF(入力用シート!D15="","",入力用シート!D15)
I6: 補助金交付申請書
R8: =IF(入力用シート!D24="","年 月 日",入力用シート!D24) -> 年 月 日
D9: 福山市長様
L10: 住所 | O10: =IF(入力用シート!D7="","",入力用シート!D7)
L11: 団体名 | O11: =IF(入力用シート!D5="","",入力用シート!D5)
L12: 代表者名 | O12: =IF(入力用シート!D6="","",入力用シート!D6)
C14: 福山市補助金交付規則（昭和４１年規則第１７号）第４条の規定により、 次のとおり結核健康診断事業の補助金交付について申請します。
C16: 事業名 | G16: ２０２６年度（令和８年度） 結核健康診断事業
C17: 事業所名 | G17: =IF(入力用シート!D9="","",入力用シート!D9)
C18: （所在地） | G18: =IF(入力用シート!D11="","",入力用シート!D11)
C19: 実施場所 | G19: =IF(入力用シート!D18="","",入力用シート!D18)
G20: =IF(入力用シート!D19="","",入力用シート!D19)
C21: 事業費 | G21: =IF(入力用シート!D27="","",入力用シート!D27) | L21: 円 | N21: 補助金申請額 | R21: =IF(入力用シート!D28="","",入力用シート!D28) | W21: 円
C23: 計画の概要
C24: 感染症の予防及び感染症の患者に対する医療に関する法律第５３条の２ 第１項の規定に基づき定期結核健康診断を実施し、結核の予防に努める。
C25: 着手（予定） | H25: =IF(入力用シート!D25="","年 月 日",入力用シート!D25) -> 年 月 日
C26: 年 月 日
C27: 完成（予定） | H27: =IF(入力用シート!D26="","年 月 日",入力用シート!D26) -> 年 月 日
C28: 年 月 日
C29: 添付書類
D30: １ 実施計画書（様式第2号） | M30: ２ 経費の内訳及び所要額調書（様式第3号）
D31: ３ その他市長が必要と認めた書類 | M31: （ | X31: ）
C32: ※既に事業が完了しており、実績に基づき精算額で申請を行う場合、１及び２は不要
C34: 確認事項（□にチェックをして提出してください。）
C36: □ | D36: 様式第１号「補助金交付申請書」の右上余白部分に、担当者名及び連絡先が記入さ れている。
C37: □ | D37: 様式第１号「補助金交付申請書」の住所・団体名・代表者名は福山市に支払相手方 登録されている債権者情報である。

Sheet 実施計画書(２号）
A1: 様式第２号
A2: 健 康 診 断 実 施 計 画 書
I3: =IF(入力用シート!D5="","",入力用シート!D5)
F4: 2026年度（令和8年度） | I4: =IF(入力用シート!D9="","",入力用シート!D9)
H5: 実施義務者名 | I5: =IF(入力用シート!D10="","",入力用シート!D10)
A7: 区分 | B7: 箇所数 | C7: 対象人数 | D7: 受診予定人数 | E7: 予定受診率 | F7: 健 康 診 査 | K7: 実施義務者 支出予定額
F8: 間 接 撮 影 | I8: 直接撮影 | J8: デジタル 撮影
F9: レンズ カメラ | G9: 70㎜ | H9: 100㎜
G10: ミラー | H10: ミラー
G11: カメラ | H11: カメラ
B12: （か所） | C12: （人） | D12: （人） | E12: （％） | F12: （人） | G12: （人） | H12: （人） | I12: （人） | J12: （人）
A13: 高校以上 学生・生徒 | E13: =IF(D13=0,0,D13/C13) -> 0 | K13: －
A14: （ハイリスク再掲） | C14: ( ） | D14: ( ） | E14: ( ） | F14: ( ） | G14: ( ） | H14: ( ） | I14: ( ） | J14: ( ）
A15: 施設 | B15: =IF(入力用シート!D32="",0,入力用シート!D32) -> 0 | C15: =IF(入力用シート!D33="",0,入力用シート!D33) -> 0 | D15: =IF(入力用シート!D34="",0,入力用シート!D34) -> 0 | E15: =IF(D15=0,0,D15/C15) -> 0 | F15: =IF(入力用シート!D36="",0,入力用シート!D36) -> 0 | G15: =IF(入力用シート!D37="",0,入力用シート!D37) -> 0 | H15: =IF(入力用シート!D38="",0,入力用シート!D38) -> 0 | I15: =IF(入力用シート!D40="",0,入力用シート!D40) -> 0 | J15: =IF(入力用シート!D41="",0,入力用シート!D41) -> 0
A16: 合計 | B16: =B13+B15 -> 0 | C16: =C13+C15 -> 0 | D16: =D13+D15 -> 0 | E16: =IF(D16=0,"",D16/C16) | F16: =F13+F15 -> 0 | G16: =G13+G15 -> 0 | H16: =H13+H15 -> 0 | I16: =I13+I15 -> 0 | J16: =J13+J15 -> 0
F17: 円 | G17: 円 | H17: 円 | I17: 円 | J17: 円 | K17: 円
A18: 支出予定額 | B18: － | C18: － | D18: － | E18: － | F18: =IF(入力用シート!E36="","",入力用シート!E36) | G18: =IF(入力用シート!E37="","",入力用シート!E37) | H18: =IF(入力用シート!E38="","",入力用シート!E38) | I18: =IF(入力用シート!E40="","",入力用シート!E40) | J18: =IF(入力用シート!E41="","",入力用シート!E41) | K18: =SUM(F18:J18) -> 0
A19: 補助基準単価 | B19: － | C19: － | D19: － | E19: － | F19: 454 | G19: 478 | H19: 506 | I19: 506 | J19: 506
A20: 基準算定額 | B20: － | C20: － | D20: － | E20: － | F20: =IF(F16="","",F16*F19) -> 0 | G20: =IF(G16="","",G16*G19) -> 0 | H20: =IF(H16="","",H16*H19) -> 0 | I20: =IF(I16="","",I16*I19) -> 0 | J20: =IF(J16="","",J16*J19) -> 0 | K20: =SUM(F20:J20) -> 0
A22: 注１ 「ハイリスク」の項目には、エックス線検査によって結核によるものと考えられる治癒所見の発見された者及び担当の医師が結核発病のおそれがあると認めた者を記入すること。
A23: 注２ 「支出予定額」欄は、表題の区分によって、それぞれの実施人員に対する支出状況を記入すること。
A24: 注３ 「基準算定額」欄は、補助基準単価に表題の区分によって、それぞれの実施人員計を乗じた額を記入すること。
H26: 検診委託団体名 | I26: =IF(入力用シート!D17="","",入力用シート!D17)

Sheet 所要額調書（３号） 
A1: 様式第３号
A2: 結核予防計画の実施に要する経費の内訳及び所要額調書
H4: =IF(入力用シート!D5="","",入力用シート!D5)
E5: 2026年度（令和8年度） | H5: =IF(入力用シート!D9="","",入力用シート!D9)
G6: 実施義務者名 | H6: =IF(入力用シート!D10="","",入力用シート!D10)
A8: 区分 | B8: 総事業費 | C8: 支 出 | D8: 収 入 | F8: 算定基準に | G8: 補 助 | H8: 補 助
E9: 差引額 | F9: よる
B10: 予 算 額 | C10: 予定額 | D10: 見込額 | F10: 基準算定額 | G10: 基本額 | H10: 申請額 | I10: 備 考
E11: （Ａ）－（Ｃ） | H11: （Ｆ）×２／３
B13: （Ａ） | C13: （Ｂ） | D13: （Ｃ） | E13: （Ｄ） | F13: （Ｅ） | G13: （Ｆ） | H13: （Ｇ）
B15: 円 | C15: 円 | D15: 円 | E15: 円 | F15: 円 | G15: 円 | H15: 円
A16: 結核予防費 | B16: =IF(入力用シート!D49="",0,入力用シート!D49) -> 0 | C16: =IF(入力用シート!D50="",0,入力用シート!D50) -> 0 | D16: =IF(入力用シート!D51="",0,入力用シート!D51) -> 0 | E16: =B16-D16 -> 0 | F16: =IF(入力用シート!D53="",0,入力用シート!D53) -> 0 | G16: =MIN(C16, E16, F16) -> 0 | H16: =ROUNDDOWN(G16*2/3,0) -> 0 | I16: =IF(入力用シート!D56="","",入力用シート!D56)
A18: 注１ 様式第２号に従って記入すること。
A19: 注２ 「収入見込額」欄は、当該年度において健康診断の実施に関する収入の額（寄付金その他の収入）の見込みがあれば記入すること。
A20: 注３ 「補助基本額」欄は、（Ｂ）、（Ｄ）及び（Ｅ）の金額を比較して最も少ない額を記入すること。
A21: 注４ 端数は切捨てとする。

Sheet 事業報告書（7号）
B2: 様式第７号 | R2: 担当者名： | S2: =IF(入力用シート!D13="","",入力用シート!D13)
R3: 連絡先： | S3: =IF(入力用シート!D14="","",入力用シート!D14)
S4: =IF(入力用シート!D15="","",入力用シート!D15)
I6: 事業報告書
R8: =IF(入力用シート!K24="","年 月 日",入力用シート!K24) -> 年 月 日
D9: 福山市長様
L10: 住所 | O10: =IF(入力用シート!D7="","",入力用シート!D7)
L11: 団体名 | O11: =IF(入力用シート!D5="","",入力用シート!D5)
L12: 代表者名 | O12: =IF(入力用シート!D6="","",入力用シート!D6)
C14: ２０２６年度（令和８年度） 結核健康診断事業を、次のとおり実施しました。
C16: 事業名 | G16: ２０２６年度（令和８年度） 結核健康診断事業
C17: 事業所名 | G17: =IF(入力用シート!D9="","",入力用シート!D9)
C18: （所在地） | G18: =IF(入力用シート!D11="","",入力用シート!D11)
C19: 実施場所 | G19: =IF(入力用シート!D18="","",入力用シート!D18)
G20: =IF(入力用シート!D19="","",入力用シート!D19)
C21: 事業費 | G21: =IF(入力用シート!K27="","",入力用シート!K27) | L21: 円 | N21: 補助金額 | R21: =IF(入力用シート!K28="","",入力用シート!K28) | W21: 円
C23: 着手年月日 | H23: =IF(入力用シート!K25="","年 月 日",入力用シート!K25) -> 年 月 日
C25: 完成年月日 | H25: =IF(入力用シート!K26="","年 月 日",入力用シート!K26) -> 年 月 日
C27: 実施事業の経過及び内容
D28: 感染症の予防及び感染症の患者に対する医療に関する法律第５３条の２ 第１項の規定に基づき定期結核健康診断を実施し、結核の予防に努める。
C30: 事業成果 | G30: =IF(入力用シート!K29="","",入力用シート!K29)
C32: 添付書類
D33: １ 実績書（様式第８号） | M33: ２ 経費の内訳及び所要額調書（様式第９号）
D34: ３ 実施成績表（様式第１０号） | M34: ４ 領収書等の写し

Sheet 実績書(８号） 
A1: 様式第８号
A2: 健 康 診 断 実 績 書
I3: =IF(入力用シート!D5="","",入力用シート!D5)
F4: 2026年度（令和8年度） | I4: =IF(入力用シート!D9="","",入力用シート!D9)
H5: 実施義務者名 | I5: =IF(入力用シート!D10="","",入力用シート!D10)
A7: 区分 | B7: 箇所数 | C7: 対象人数 | D7: 受診人数 | E7: 受診率 | F7: 健 康 診 査 | K7: 実施義務者 支出額
F8: 間 接 撮 影 | I8: 直接撮影 | J8: デジタル 撮影
F9: レンズ カメラ | G9: 70㎜ | H9: 100㎜
G10: ミラー | H10: ミラー
G11: カメラ | H11: カメラ
B12: （か所） | C12: （人） | D12: （人） | E12: （％） | F12: （人） | G12: （人） | H12: （人） | I12: （人） | J12: （人）
A13: 高校以上 学生・生徒 | E13: =IF(D13=0,0,D13/C13) -> 0 | K13: －
A14: （ハイリスク再掲） | C14: ( ） | D14: ( ） | E14: ( ） | F14: ( ） | G14: ( ） | H14: ( ） | I14: ( ） | J14: ( ）
A15: 施設 | B15: =IF(入力用シート!K32="",0,入力用シート!K32) -> 0 | C15: =IF(入力用シート!K33="",0,入力用シート!K33) -> 0 | D15: =IF(入力用シート!K34="",0,入力用シート!K34) -> 0 | E15: =IF(D15=0,0,D15/C15) -> 0 | F15: =IF(入力用シート!K36="",0,入力用シート!K36) -> 0 | G15: =IF(入力用シート!K37="",0,入力用シート!K37) -> 0 | H15: =IF(入力用シート!K38="",0,入力用シート!K38) -> 0 | I15: =IF(入力用シート!K40="",0,入力用シート!K40) -> 0 | J15: =IF(入力用シート!K41="",0,入力用シート!K41) -> 0
A16: 合計 | B16: =B13+B15 -> 0 | C16: =C13+C15 -> 0 | D16: =D13+D15 -> 0 | E16: =IF(D16=0,0,D16/C16) -> 0 | F16: =F13+F15 -> 0 | G16: =G13+G15 -> 0 | H16: =H13+H15 -> 0 | I16: =I13+I15 -> 0 | J16: =J13+J15 -> 0
F17: 円 | G17: 円 | H17: 円 | I17: 円 | J17: 円 | K17: 円
A18: 実支出額 | B18: － | C18: － | D18: － | E18: － | F18: =IF(入力用シート!L36="",0,入力用シート!L36) -> 0 | G18: =IF(入力用シート!L37="",0,入力用シート!L37) -> 0 | H18: =IF(入力用シート!L38="",0,入力用シート!L38) -> 0 | I18: =IF(入力用シート!L40="",0,入力用シート!L40) -> 0 | J18: =IF(入力用シート!L41="",0,入力用シート!L41) -> 0 | K18: =SUM(F18:J18) -> 0
A19: 補助基準単価 | B19: － | C19: － | D19: － | E19: － | F19: 454 | G19: 478 | H19: 506 | I19: 506 | J19: 506
A20: 基準算定額 | B20: － | C20: － | D20: － | E20: － | F20: =IF(F16="","",F16*F19) -> 0 | G20: =IF(G16="","",G16*G19) -> 0 | H20: =IF(H16="","",H16*H19) -> 0 | I20: =IF(I16="","",I16*I19) -> 0 | J20: =IF(J16="","",J16*J19) -> 0 | K20: =SUM(F20:J20) -> 0
A22: 注１ 「ハイリスク」の項目には、エックス線検査によって結核によるものと考えられる治癒所見の発見された者及び担当の医師が結核発病のおそれがあると認めた者を記入すること。
A23: 注２ 「実支出額」欄は、表題の区分によって、それぞれの実施人員に対する支出状況を記入すること。
A24: 注３ 「基準算定額」欄は、補助基準単価に表題の区分によって、それぞれの実施人員計を乗じた額を記入すること。
H26: 検診委託団体名 | I26: =IF(入力用シート!D17="","",入力用シート!D17)

Sheet 所要額調書（９号）
A1: 様式第９号
A2: 結核予防計画の実施に要する経費の内訳及び所要額調書
H4: =IF(入力用シート!D5="","",入力用シート!D5)
E5: 2026年度（令和8年度） | H5: =IF(入力用シート!D9="","",入力用シート!D9)
G6: 実施義務者名 | H6: =IF(入力用シート!D10="","",入力用シート!D10)
A8: 区分 | B8: 総事業費 | C8: 実支出 | F8: 算定基準に | G8: 補 助 | H8: 補 助
D9: 収入額 | E9: 差引額 | F9: よる
B10: の 額 | C10: 済 額 | F10: 基準算定額 | G10: 基本額 | H10: 所要額 | I10: 備 考
E11: （Ａ）－（Ｃ） | H11: （Ｆ）×２／３
B13: （Ａ） | C13: （Ｂ） | D13: （Ｃ） | E13: （Ｄ） | F13: （Ｅ） | G13: （Ｆ） | H13: （Ｇ）
B15: 円 | C15: 円 | D15: 円 | E15: 円 | F15: 円 | G15: 円 | H15: 円
A16: 結核予防費 | B16: =IF(入力用シート!K49="",0,入力用シート!K49) -> 0 | C16: =IF(入力用シート!K50="",0,入力用シート!K50) -> 0 | D16: =IF(入力用シート!K51="",0,入力用シート!K51) -> 0 | E16: =B16-D16 -> 0 | F16: =IF(入力用シート!K53="",0,入力用シート!K53) -> 0 | G16: =MIN(C16, E16, F16) -> 0 | H16: =ROUNDDOWN(G16*2/3,0) -> 0 | I16: =IF(入力用シート!K56="","",入力用シート!K56)
A18: 注１ 様式第８号に従って集計記入すること。
A19: 注２ 「収入額」欄は、当該年度において健康診断実施に関する収入の額（寄付金その他の収入）を記入すること。
A20: 注３ 「補助基本額」欄は、（Ｂ）、（Ｄ）及び（Ｅ）の金額を比較して最も少ない額を記入すること。
A21: 注４ 端数は切捨てとする。

Sheet 実施成績表（10号）
A1: 様式第10号
A2: 結 核 健 康 診 断 実 施 成 績 表
I4: =IF(入力用シート!D5="","",入力用シート!D5)
F5: 2026年度（令和8年度） | I5: =IF(入力用シート!D9="","",入力用シート!D9)
H6: 実施義務者名 | I6: =IF(入力用シート!D10="","",入力用シート!D10)
A8: 区分 | B8: =IF(入力用シート!B5="","",入力用シート!B5) -> 申請者 | C8: 受診人員 | D8: 受診率 | E8: 間接撮影者数 | F8: 直接撮影者数 | G8: デジタル 撮影者数 | H8: 被発見者数 | J8: 有 病 率 | K8: 備 考
H9: 結核 患者 | I9: 結核発病のおそれがあると診断された者の数
B14: （人） | C14: （人） | D14: （％） | E14: （人） | F14: （人） | G14: （人） | H14: （人） | I14: （人） | J14: （％）
A15: 高校以上 学生・生徒 | D15: =IF(B15=0,0,C15/B15) -> 0 | J15: =IF(B15=0,0,(H15+I15)/C15) -> 0
A16: （ハイリスク再掲） | B16: （ ） | C16: （ ） | D16: （ ） | E16: （ ） | F16: （ ） | G16: （ ）
A17: 施設 | B17: =IF(入力用シート!K33="",0,入力用シート!K33) -> 0 | C17: =IF(入力用シート!K34="",0,入力用シート!K34) -> 0 | D17: =IF(B17=0,0,C17/B17) -> 0 | E17: =IF(入力用シート!K39="",0,入力用シート!K39) -> 0 | F17: =IF(入力用シート!K40="",0,入力用シート!K40) -> 0 | G17: =IF(入力用シート!K41="",0,入力用シート!K41) -> 0 | H17: =IF(入力用シート!K44="",0,入力用シート!K44) -> 0 | I17: =IF(入力用シート!K45="",0,入力用シート!K45) -> 0 | J17: =IF(B17=0,0,(H17+I17)/C17) -> 0 | K17: =IF(入力用シート!K46="","",入力用シート!K46)

Sheet 変更・取下申請書（５号）
C2: 様式第５号 | R2: 担当者名： | S2: =IF(入力用シート!D13="","",入力用シート!D13)
R3: 連絡先： | S3: =IF(入力用シート!D14="","",入力用シート!D14)
S4: =IF(入力用シート!D15="","",入力用シート!D15)
G6: 事業計画変更・休止・廃止・承認申請書
G7: 事業計画取下申請書
R9: =IF(入力用シート!R23="","年 月 日",入力用シート!R23) -> 年 月 日
D10: 福山市長様
L11: 住所 | O11: =IF(入力用シート!D7="","",入力用シート!D7)
L12: 団体名 | O12: =IF(入力用シート!D5="","",入力用シート!D5)
L13: 代表者名 | O13: =IF(入力用シート!D6="","",入力用シート!D6)
D15: =IF(入力用シート!R24="","",入力用シート!R24) | K15: 付けで申請した結核健康診断事業の補助金について、
C16: 次のとおり（変更・休止・廃止・取下）の申請をします。
C18: 事業名 | G18: ２０２６年度（令和８年度） 結核健康診断事業
C19: 事業所名 | G19: =IF(入力用シート!D9="","",入力用シート!D9)
C20: （所在地） | G20: =IF(入力用シート!D11="","",入力用シート!D11)
C21: 実施場所 | G21: =IF(入力用シート!D18="","",入力用シート!D18)
G22: =IF(入力用シート!D19="","",入力用シート!D19)
C23: 変更事業費 | G23: =IF(入力用シート!R27="","",入力用シート!R27) | L23: 円 | N23: 変更申請額 | R23: =IF(入力用シート!R28="","",入力用シート!R28) | W23: 円
C25: 変更後の事業概要
D26: 感染症の予防及び感染症の患者に対する医療に関する法律第５３条の２ 第１項の規定に基づき定期結核健康診断を実施し、結核の予防に努める。
C27: 変更の理由
D28: =IF(入力用シート!R29="","",入力用シート!R29)
C29: 変更後の着手予定年月日
H30: =IF(入力用シート!R25="","年 月 日",入力用シート!R25) -> 年 月 日
C31: 変更後の完成予定年月日
H32: =IF(入力用シート!R26="","年 月 日",入力用シート!R26) -> 年 月 日
C33: 添付書類
C34: １実施計画書（様式第２号） | M34: ２ 経費の内訳及び所要額調書（様式第３号）
C35: ※取下げの場合には添付書類は不要です。
