Workbook

Sheet 2-1提出書類
A1: 様式２－１号
A3: 技 術 資 料 等 書 類 目 録
A4: 道路舗装工事（芦田川右岸１号幹線・８－２）
G5: 年 月 日
A6: 福 山 市 長 様
E8: 所在地
D9: （申請者欄） | E9: 商号又は名称
E10: 代表者名
E11: 担当者名
E12: 電話番号
A14: 見出しの工事について、総合評価方式に係る技術評価をされたく、下記の書類を提出します。なお、提出する全ての記載事項等については事実と相違ないことを誓約します。
A16: 【総合評価の技術資料等に関する書類】
A17: (1) | B17: 同種・同規模工事の施工実績調書（様式２－２号） | E17: 同種・同規模以上の工事とは、元請として施工した舗装工事であって、表層工が２，２５０㎡以上の工事である。
E18: 同種・同規模の２倍以上の工事とは、上記工事の内、表層工が４，５００㎡以上の工事である。
A19: (2) | B19: 同一工種の元請としての実績工事の成績評定点（様式２－３号） | E19: 同一工種とは、舗装工事であり、最終契約金額が５００万円以上の成績上位工事３件について記載すること。
A20: (3) | B20: 同一工種の元請としての福山市建設工事優良成績者表彰実績調書（様式２－４号） | E20: 同一工種とは、舗装工事であり、本市発注の工事で、過去３か年度（今年度は、含まない。）に表彰された実績について記載すること。
A21: (4) | B21: 同種工事（自社で施工したものに限る。）の施工実績調書（様式２－５号） | E21: 同種工事（自社で施工したものに限る。）とは、本市（上下水道局含む。）が舗装工事として発注し、施工にあたり基層工（アスファルト）及び表層工（アスファルト）を自社で施工した最終契約金額５００万円以上の工事である。
A22: (5) | B22: 自社による施工の誓約書（様式２－６号・様式２－７号） | E22: 自社による施工とは、基層工（アスファルト）及び表層工（アスファルト）を施工する際、受注者と直接的な雇用関係にある技術者及び作業員等で全て施工することをいう。
A23: (6) | B23: アスファルトフィニッシャ等の保有状況調書（様式２－８号） | E23: アスファルトフィニッシャ等の保有又は賃貸借契約の内容が確認できる書類を添付すること。
A24: (7) | B24: 同種・同規模工事の主任（監理）技術者としての施工経験調書（様式２－９号） | E24: 同種・同規模以上の工事とは、元請の主任（監理）技術者として従事した舗装工事であって、表層工が２，２５０㎡以上の工事である。
E25: 同種・同規模の２倍以上の工事とは、上記工事の内、表層工が４，５００㎡以上の工事である。
A26: (8) | B26: 同一工種の主任（監理）技術者としての経験工事の成績評定点（様式２－１０号） | E26: 同一工種とは、元請の主任（監理）技術者として従事した舗装工事であり、最終契約金額が５００万円以上の成績上位工事３件について記載すること。
A27: (9) | B27: 継続教育の取組状況調書（様式２－１１号） | E27: 建設系ＣＰＤ協議会の加盟団体が行う継続教育（ＣＰＤ）の取り組み状況を評価するもので、学習履歴が確認できる書類を提出すること。
A28: (10) | B28: 同一工種の主任（監理）技術者としての福山市建設工事優良成績者表彰実績調書（様式２－１２号） | E28: 同一工種とは、元請の主任（監理）技術者として従事した舗装工事であり、本市発注の工事で、過去３か年度（今年度は、含まない。）に表彰された実績について記載すること。
A29: (11) | B29: 配置若手技術者調書（様式２－１３号） | E29: 開札日の前日において、４０歳以下であり、直接的かつ恒常的な雇用関係にある配置技術者について記載すること。
A30: (12) | B30: 障がい者雇用申告書（様式２－１４号） | E30: 雇用義務のある企業は、公共職業安定所に提出した「障がい者雇用状況報告書」の写しを添付すること。
A31: (13) | B31: 次世代育成支援等の取り組み状況調書（様式２－１５号） | E31: ・認定通知書、登録証又は就業規則等の写しを添付すること。 ・女性技術者の雇用関係を証するもの及び資格を有することを証するものを添付すること。
A33: （備考）
A34: ① 発注者から提出の依頼を受けた場合に、指定する期限までに持参の方法で提出すること。
A35: ② 様式２－１号、様式２－６号、様式２－１４号及び様式２－１６号に代表者の押印が必要です。
C75: 項目 | E75: 必要書類 | F75: 提出方法
C76: 施工実績 | D76: 0.このセルをクリックして右端の▼で選択してください。 | E76: （表示欄です） | F76: （表示欄です）
D77: 1.(資格要件で求めていない場合) | E77: 不要 | F77: －
D78: 2.CORINS登録有(公告で定めた資格要件が確認できる場合) | E78: 不要 | F78: －
D79: 3.CORINS登録有(公告で定めた資格要件が確認できない場合) | E79: 請負契約書関係書類の写又は様式４号（発注者が証明したもの） | F79: 電子又は持参
D80: 4.CORINS登録無 | E80: 請負契約書関係書類の写又は様式４号（発注者が証明したもの） | F80: 電子又は持参
C81: 申請時の資格 | D81: 0.このセルをクリックして右端の▼で選択してください。 | E81: （表示欄です） | F81: （表示欄です）
D82: 1.監理技術者としての資格を有する者 | E82: 監理技術者資格者証（及び指定講習受講修了証）及び雇用関係の確認できる書面（健康保険被保険者証等）の写 | F82: 電子又は持参
D83: 2.主任技術者としての資格を有する者 | E83: 技術検定合格証明書及び雇用関係の確認できる書面（健康保険被保険者証等）の写 | F83: 電子又は持参
C84: 経験関係 | D84: 0.このセルをクリックして右端の▼で選択してください。 | E84: （表示欄です） | F84: （表示欄です）
...

Sheet 2-2同種・同規模施工実績
A1: 様式２－２号
A3: 同種・同規模工事の施工実績調書
C5: 工事名 | E5: ='2-1提出書類'!A4 -> 道路舗装工事（芦田川右岸１号幹線・８－２）
C6: 会社名
A8: 同種・同規模以上の条件 | B8: ='2-1提出書類'!E17 -> 同種・同規模以上の工事とは、元請として施工した舗装工事であって、表層工が２，２５０㎡以上の工事である。
A9: 同種・同規模の２倍以上の条件 | B9: ='2-1提出書類'!E18 -> 同種・同規模の２倍以上の工事とは、上記工事の内、表層工が４，５００㎡以上の工事である。
A11: 発注機関 | B11: 工事名称 | C11: 最終契約金額（円）（税込） | E11: 受注形態 | F11: 工事内容
B12: 施工場所 | C12: 工期
E13: 単体 ・ ＪＶ
C15: 年 月 日 | D15: から | E15: ○○・○○JV （出資比率） ○○％
C16: 年 月 日 | D16: まで
A17: 「同種・同規模の２倍以上」の条件の該当の有無 | C17: 該当する ・ 該当しない | E17: ←いずれかに○をしてください。
A18: 完 成 年 度 | E18: 年度
A19: 該当する完成年度に○をしてください。 | B19: 過去１～５か年度 （２０２１～２０２５年度）
B20: 過去６～１０か年度 （２０１６～２０２０年度）
B21: 過去１１～１５か年度 （２０１１～２０１５年度）
A23: 注１） | B23: 過去１５か年度（今年度を含まない。）に元請として完成・引渡が完了した工事について記入すること。
A24: 注２） | B24: 共同企業体の構成員としての実績は、出資比率２０％以上の場合に限る。
A25: 注３） | B25: 発注機関が、福山市（上下水道局・市民病院を含む。）及び福山地区消防組合以外の場合は、ＣＯＲＩＮＳ（登録されていない場合は契約書（工事名、契約金額、工期、発注者、請負者の確認ができる部分））の写しを提出すること。ただし、記載内容で施工実績が不明な場合については、必要に応じ平面図、構造図、数量総括表等を添付すること。
A27: 注４） | B27: 契約変更があったものについては、工期及び契約金額は最終のものを記載すること。

Sheet 2-3同一工種の企業工事成績 
A1: 様式第２－３号
A2: 同一工種の元請としての実績工事の工事成績評定点
C3: 工事名： | D3: ='2-1提出書類'!A4 -> 道路舗装工事（芦田川右岸１号幹線・８－２）
C4: 会社名：
B6: 経験工事①～③の 工事成績点の平均点 | C6: =IF(C14="","",ROUND(AVERAGE(C14,C20,C26),1)) | D6: 点
A8: 同一工種 | C8: 舗装工事
A9: 経験工事①の概要 | B9: 発注機関
B10: 工事名
B11: 工事場所
B12: 最終契約金額 | C12: 円
B13: 工期 | C13: 年 月 日 から 年 月 日まで
B14: 工事成績点 | D14: 点
A15: 経験工事②の概要 | B15: 発注機関
B16: 工事名
B17: 工事場所
B18: 最終契約金額 | C18: 円
B19: 工期 | C19: 年 月 日 から 年 月 日まで
B20: 工事成績点 | D20: 点
A21: 経験工事③の概要 | B21: 発注機関
B22: 工事名
B23: 工事場所
B24: 最終契約金額 | C24: 円
B25: 工期 | C25: 年 月 日 から 年 月 日まで
B26: 工事成績点 | D26: 点
A27: 注１） | B27: 過去１０か年度（今年度を含まない。）に完成・引渡が完了した本市（上下水道局及び市民病院を含む。）、福山地区消防組合、広島県及び中国地方整備局発注の最終契約金額が５００万円以上の舗装工事のうち、成績上位工事３件について記入すること。経験工事がない場合、工事名の欄に「なし」と記入すること。
A28: 注２） | B28: 過去１０か年度（今年度を含まない。）において工事成績評定点の付いた工事が３件に満たない場合は、３件に満たない分の件数を１件６５点として取り扱うものとする。また、添付資料で記入内容が確認できない工事についても、６５点として取扱うので注意すること。
A29: 注３） | B29: 発注機関が、福山市及び福山地区消防組合以外の場合は、ＣＯＲＩＮＳ（登録されていない場合は工事実績証明書又は契約書の写し等（工事名、契約金額、工期、発注者、受注者、工事内容の確認ができるもの））及び当該機関発行の工事成績評定通知書の写しを提出すること。
A30: 注４） | B30: 経験工事①～③の工事成績点の平均点の算出に当たっては、小数第１位止め（小数第２位を四捨五入）して求めるものとする。

Sheet 2-4企業表彰実績
A1: 様式第２－４号
A2: 同一工種の元請としての福山市建設工事優良成績者表彰実績調書
C4: 工事名： | D4: ='2-1提出書類'!A4 -> 道路舗装工事（芦田川右岸１号幹線・８－２）
C5: 会社名：
A8: 同一工種 | C8: 舗装工事
A9: 表彰工事の概要 | B9: 工事名
B10: 工事場所
B11: 最終契約金額 | C11: 円
B12: 工期 | C12: 年 月 日 から 年 月 日まで
B13: 表彰年月日 | C13: 年 月 日 | E13: ※表彰状に記載された表彰日を記載してください。
A14: 注１） | B14: 過去３か年度（今年度を含まない。）に表彰された本市（上下水道局及び市民病院を含む。）発注の舗装工事について 記入すること。なお、表彰工事がない場合、工事名の欄に「なし」と記入すること。

Sheet 2-5同種施工実績（自社で施工したものに限る）
A1: 様式２－５号
A3: 同種工事（自社で施工したものに限る。）の施工実績調書
C5: 工事名 | E5: ='2-1提出書類'!A4 -> 道路舗装工事（芦田川右岸１号幹線・８－２）
C6: 会社名
A8: 同種工事（自社で施工したものに限る。）の条件 | B8: ='2-1提出書類'!E21 -> 同種工事（自社で施工したものに限る。）とは、本市（上下水道局含む。）が舗装工事として発注し、施工にあたり基層工（アスファルト）及び表層工（アスファルト）を自社で施工した最終契約金額５００万円以上の工事である。
A10: 発注機関 | B10: 工事名称 | C10: 最終契約金額（円） | E10: 受注形態 | F10: 工事内容
B11: 施工場所 | C11: 工期
E12: 単体 ・ ＪＶ
C14: 年 月 日 | D14: から | E14: ○○・○○JV （出資比率） ○○％
C15: 年 月 日 | D15: まで
E16: 単体 ・ ＪＶ
C18: 年 月 日 | D18: から | E18: ○○・○○JV （出資比率） ○○％
C19: 年 月 日 | D19: まで
A21: 注１） | B21: 過去５か年度（今年度を含まない。）に元請として完成・引渡しが完了した工事について記入すること。
A22: 注２） | B22: 共同企業体の構成員としての実績は、出資比率２０％以上の場合に限る。
A23: 注３） | B23: 契約変更があったものについては、工期及び契約金額は最終のものを記入すること。
A24: 注４） | B24: 福山市（上下水道局及び市民病院を含む。）が発注したものに限る。

Sheet 2-6自社施工の誓約
A1: 様式２-６号
A3: 自社による施工の誓約書
H5: 年 月 日
A7: 福 山 市 長 | C7: 様
E9: 所 在 地
E10: 商号又は名称
E11: 代 表 者 名
A14: 工 事 名 | C14: ='2-1提出書類'!A4 -> 道路舗装工事（芦田川右岸１号幹線・８－２）
A17: 福山市建設工事自社施工型試行要領を確認のうえ、上記の工事における、基層工（アスファルト）及び表層工（アスファルト）については、直接的な雇用関係にある技術者及び作業員等で全て施工することを誓約します。 なお、直接的な雇用関係にある技術者及び作業員等については、様式２－７号「自社技術者等の名簿」のとおりです。

Sheet 2-7自社技術者等名簿
A1: 様式２－７号
A3: 自社技術者等の名簿
E5: 商号又は名称：
A7: ='2-1提出書類'!A4 -> 道路舗装工事（芦田川右岸１号幹線・８－２）
A9: 上記の工事における、基層工（アスファルト）及び表層工（アスファルト）については、次の技術者及び作業員等で全て施工しますので、福山市建設工事自社施工型試行要領第４条第２項の規定に基づき提出します。
A11: 職 種 | D11: 名 前 | F11: 資 格 等
A12: 現場代理人 | D12: 〇〇 〇〇 | F12: 〇〇施工管理技士
A13: 主任技術者
A14: 〇〇運転手 | F14: 大型特殊
A15: 〇〇運転手
A16: 〇〇運転手
A17: 〇〇運転手
A18: 一般作業員
A28: （注）
A29: １ 現場代理人、主任技術者以外の者については、雇用関係が確認できる書面（例：技術職員名簿、雇用 保険被保険者証の写し、雇用契約書の写し、賃金台帳の写し等）を添付すること。
A30: ２ 重機の運転手については、当該重機の運転に必要な免許証等の写しを添付すること。
A31: ３ 記載事項に変更が生じたときは、速やかに変更後の名簿を監督員に提出すること。
A32: ４ 様式２－６号「自社による施工の誓約書」 を提出しない場合、この様式の提出は不要です。

Sheet 2-8アスファルトフィニッシャ等
A1: 様式２－８号
A5: アスファルトフィニッシャ等の保有状況調書
A7: 保有又は賃貸借契約の内容が確認できる書類を添付すること。 | E7: 工事名： | F7: ='2-1提出書類'!A4 -> 道路舗装工事（芦田川右岸１号幹線・８－２）
E8: 会社名：
A57: 添付書類
A58: （１）自社保有の場合 ・・・・・・・・・・・・・車検証の写し
A59: （２）レンタルの場合 ・・・・・・・・・・・・・・契約書及び車検証の写し
A60: （３）ファイナンスリースの場合・・・・・・契約書及び車検証の写し

Sheet 2-9技術者の経験
A1: 様式２－９号
A3: 同種・同規模工事の主任（監理）技術者としての施工経験調書
C5: 工 事 名 | E5: ='2-1提出書類'!A4 -> 道路舗装工事（芦田川右岸１号幹線・８－２）
C6: 会 社 名
C7: 技術者名
C8: 資格名称
G9: （ 舗装施工管理技術者 有 ・ 無 ）
A11: 同種・同規模以上の条件 | B11: ='2-1提出書類'!E24 -> 同種・同規模以上の工事とは、元請の主任（監理）技術者として従事した舗装工事であって、表層工が２，２５０㎡以上の工事である。
A12: 同種・同規模の２倍以上の条件 | B12: ='2-1提出書類'!E25 -> 同種・同規模の２倍以上の工事とは、上記工事の内、表層工が４，５００㎡以上の工事である。
A14: 発注機関 | B14: 工事名称 | C14: 最終契約金額（円）（税込） | E14: 受注形態 | F14: 役職 | G14: 工事内容
B15: 施工場所 | C15: 工期
E16: 単体 ・ ＪＶ | F16: 主任
C18: 年 月 日 | D18: から | E18: ○○・○○JV （出資比率） ○○％ | F18: 監理
C19: 年 月 日 | D19: まで
A20: 「同種・同規模の２倍以上」の条件の該当の有無 | C20: 該当する ・ 該当しない | E20: ←いずれかに○をしてください。
A21: 完 成 年 度 | E21: 年度
A22: 該当する完成年度に○をしてください。 | B22: 過去１～５か年度 （２０２１～２０２５年度）
B23: 過去６～１０か年度 （２０１６～２０２０年度）
B24: 過去１１～１５か年度 （２０１１～２０１５年度）
A26: 注１） | B26: 過去１５か年度（今年度を含まない。）に元請として完成・引渡が完了した工事について記入すること。
A27: 注２） | B27: 共同企業体の構成員としての実績は、出資比率２０％以上の場合に限る。
A28: 注３） | B28: 発注機関が、福山市（上下水道局・市民病院を含む。）及び福山地区消防組合以外の場合はＣＯＲＩＮＳ（登録されていない場合は工事実績証明書又は契約書の写し等（工事名、契約金額、工期、発注者、受注者、工事内容、主任（監理）技術者の名前の確認ができるもの））を提出すること。ただし、記載内容で施工実績が不明な場合については、必要に応じ平面図、構造図、数量総括表等を添付すること。
A30: 注４） | B30: 契約変更があったものについては、工期及び契約金額は最終のものを記載すること。
A31: 注５） | B31: 途中交代があるものについては、施工経験と認めない。
A32: 注６） | B32: 技術者の雇用関係が確認できる書類及び資格者証の写しを添付すること。
A33: 注７） | B33: 技術者の雇用関係が確認できる書類及び資格者証の写しが添付されていない場合は、本項目を評価しません。

Sheet 2-10技術者の工事成績
A1: 様式第２－１０号
A3: 同一工種の主任（監理）技術者としての経験工事の工事成績評定点
C4: 工事名： | D4: ='2-1提出書類'!A4 -> 道路舗装工事（芦田川右岸１号幹線・８－２）
C5: 会社名：
A7: 配置予定技術者の名前
A8: 経験工事①～③の 工事成績点の平均点 | C8: =IF(C15="","",ROUND(AVERAGE(C15,C21,C27),1)) | D8: 点
A9: 同一工種 | C9: 舗装工事
A10: 経験工事①の概要 | B10: 発注機関
B11: 工事名
B12: 工事場所
B13: 最終契約金額 | C13: 円
B14: 工期 | C14: 年 月 日 から 年 月 日まで
B15: 工事成績点 | D15: 点
A16: 経験工事②の概要 | B16: 発注機関
B17: 工事名
B18: 工事場所
B19: 最終契約金額 | C19: 円
B20: 工期 | C20: 年 月 日 から 年 月 日まで
B21: 工事成績点 | D21: 点
A22: 経験工事③の概要 | B22: 発注機関
B23: 工事名
B24: 工事場所
B25: 最終契約金額 | C25: 円
B26: 工期 | C26: 年 月 日 から 年 月 日まで
B27: 工事成績点 | D27: 点
A29: 注１） | B29: 過去１０か年度（今年度を含まない。）に完成・引渡が完了した本市（上下水道局及び市民病院を含む。）、福山地区消防組合、広島県及び中国地方整備局発注の最終契約金額が５００万円以上の舗装工事のうち、成績上位工事３件について記入すること。経験工事がない場合、工事名の欄に「なし」と記入すること。
A30: 注２） | B30: 過去１０か年度（今年度を含まない。）において工事成績評定点の付いた工事が３件に満たない場合は、３件に満たない分の件数を１件６５点として取り扱う。また、添付資料で記載内容が確認できないものについては、６５点として取り扱う。
A31: 注３） | B31: 発注機関が、福山市及び福山地区消防組合以外の場合はＣＯＲＩＮＳ（登録されていない場合は工事実績証明書又は契約書の写し等（工事名、契約金額、工期、発注者、受注者、工事内容、主任（監理）技術者の名前の確認ができるもの））及び当該機関発行の工事成績評定通知書の写しを提出すること。
A32: 注４） | B32: 途中交代のあるものは、実績として認めない。
A33: 注５） | B33: 様式２－９号において、技術者の雇用関係が確認できる書類及び資格者証の写しが添付されていない場合は、本項目を評価しません。

Sheet 2-11CPD
A1: 様式２－１１号
A3: 継続教育の取組状況調書
A5: 当該工事に配置する技術者について、建設系ＣＰＤ協議会に加盟している各団体が行う継続教育（ＣＰＤ）の取り組み状況を評価するもので、２０２１年度（令和３年度）以降、一定の単位を取得している場合に評価する。 | E5: 工事名： | F5: ='2-1提出書類'!A4 -> 道路舗装工事（芦田川右岸１号幹線・８－２）
E6: 会社名：
E7: 技術者名：

Sheet CPD基準表 
A1: 継続教育（ＣＰＤ）の取得単位の基準とは、次の表のとおりです。
A2: 継続教育（CPD）の評価基準表
A4: 運営者 | B4: 評価基準
B5: （取得単位数）
A6: （公社）空気調和・衛生工学会 | B6: １０単位／年
A7: （一社）建設コンサルタンツ協会 | B7: １０単位／年
A8: （公社）地盤工学会 | B8: １０単位／年
A9: （一社）全国土木施工管理技士会連合会 | B9: ３０単位／５年
A10: （公社）土木学会 | B10: １０単位／年
A11: （一社）日本環境アセスメント協会 | B11: １０単位／年
A12: （公社）日本技術士会 | B12: １０単位／年
A13: （公社）日本コンクリート工学会 | B13: －
A14: （公社）日本造園学会 | B14: １０単位／年
A15: （公社）日本都市計画学会 | B15: １０単位／年
A16: （公社）農業農村工学会 | B16: １０単位／年
A17: 土質・地質技術者生涯学習協議会 | B17: １０単位／年
... A24: （一社）全日本建設技術協会 | B24: １０単位／年
A25: ※建築ＣＰＤ情報提供制度によるものは、１０単位／年を評価基準とする。
A26: ※各運営団体の認定単位として認められている監理技術者講習等については、評価の対象とする。

Sheet 2-12技術者表彰実績
A1: 様式第２－１２号
A2: 同一工種の主任（監理）技術者としての福山市建設工事優良成績者表彰実績調書
C4: 工事名： | D4: ='2-1提出書類'!A4 -> 道路舗装工事（芦田川右岸１号幹線・８－２）
C5: 会社名：
A8: 配置予定技術者の名前
A9: 同一工種 | C9: 舗装工事
A10: 表彰工事①の概要 | B10: 工事名
B11: 工事場所
B12: 最終契約金額 | C12: 円
B13: 工期 | C13: 年 月 日 から 年 月 日まで
B14: 表彰年月日 | C14: 年 月 日 | E14: ※表彰状に記載された表彰日を記載してください。
A15: 表彰工事②の概要 | B15: 工事名
B16: 工事場所
B17: 最終契約金額 | C17: 円
B18: 工期 | C18: 年 月 日 から 年 月 日まで
B19: 表彰年月日 | C19: 年 月 日 | E19: ※表彰状に記載された表彰日を記載してください。
A20: 注１） | B20: 過去３か年度（今年度を含まない。）に表彰された元請の主任（監理）技術者として従事した本市（上下水道局及び市民病院を含む。）発注の舗装工事について記入すること。なお、表彰工事がない場合、工事名の欄に「なし」と記入すること。

Sheet 2-13若手技術者
A1: 様式第２－１３号
A2: 配置若手技術者調書
C4: 工事名： | D4: ='2-1提出書類'!A4 -> 道路舗装工事（芦田川右岸１号幹線・８－２）
C5: 会社名：
A8: 配置予定技術者の名前 （若手技術者）
A9: 生 年 月 日 | C9: 年 月 日 | D9: 年 齢 | E9: 歳
A10: 注１） | B10: 若手技術者を配置する場合は、当該技術者の生年月日及び当該案件の開札日の前日における年齢を記載すること。若手技術者を配置しない場合、配置予定技術者の名前の欄に「配置なし」と記入すること。
A11: 注２） | B11: 技術者の雇用関係が確認できる書類及び生年月日が確認できる書類の写しを添付すること。

Sheet 2-14障がい者雇用調書
A1: 様式２－１４号
A3: 障がい者雇用申告書
A4: 障がい者の雇用状況について、次のとおり申告します。
A5: なお、雇用する障がい者との雇用関係を証する書類の提示又は提出を求められた場合には指示に従います。
A7: また、申告書の内容が事実と異なることが判明した場合には、当該入札を無効とされ、また、指名除外の措置を受けても異議はありません。
I10: 工事名 ： | J10: ='2-1提出書類'!A4 -> 道路舗装工事（芦田川右岸１号幹線・８－２）
I11: 会社名 ：
I12: 代表者名：
F15: の部分を記載してください（該当者なしの場合も0を記載してください。）。
H17: 備 考
B18: １ 除外率 | G18: 0.1 | H18: 建設業 10％
B19: ２ 常用雇用労働者の数
C20: ①常用雇用労働者数 （短時間労働者数を除く。） | H20: 常用雇用労働者とは、「雇用期間の定めがなく雇用されている労働者」及び「一定の雇用期間を定めて雇用されている労働者であって、その雇用期間が反復更新され、過去１年間を超える期間について引き続き雇用されている労働者又は雇入れの時から１年を超えて引き続き雇用されると見込まれる労働者」をいう。また、当該常用雇用労働者の中で、「週所定労働時間が２０時間以上３０時間未満の者」を短時間労働者とする。ただし、短時間労働者については、１人につき０．５人でカウントするものとする。
C21: ②短時間労働者数
C22: ③常用雇用労働者の数 | G22: =G20+G21*0.5 -> 0 | H22: 算出方法 ①＋②×0.5
B23: ３ 常用雇用障がい者の数
C24: 常用雇用労働者 | D24: ①重度身体障がい者数と重度知的障がい者数の合計 | H24: 注１ 「週所定労働時間が１０時間以上２０時間未満の者」を特定短時間労働者とする。 注２ 身体障がい者とは、原則として身体障がい者手帳の等級が１級から６級に該当する者及び７級に該当する障がいが２以上重複する者である。 注３ 知的障がい者とは、児童相談所・知的障がい者更正相談所・精神保健福祉センター・精神保健指定医・障がい者職業センターにより知的障がい者と判定された者である（療育手帳の交付を受けている者等）。 注４ 精神障がい者とは、精神障がい者保健福祉手帳の交付を受けている者である。 注５ 雇用障がい者数のカウントについては次のとおりとする。 （１） 重度身体障がい者又は重度知的障がい者については、１人につき２人とみなすものとする。 （２） 身体障がい者、知的障がい者又は精神障がい者については、実数で算出するものとする。 （３） 精神障がい者、重度身体障がい者又は重度知的障がい者である短時間労働者の者については、実数で算出するものとする。 （４） 身体障がい者又は知的障がい者である短時間労働者の者については、０．５人とみなすものとする。 （５） 精神障がい者、重度身体障がい者又は重度知的障がい者である特定短時間労働者については、０．５人とみなすものとする。
D25: ②身体障がい者数と知的障がい者数の合計
D26: ③精神障がい者数
C27: 短時間労働者 | D27: 週所定労働時間が ２０時間以上 ３０時間未満の者 | F27: ④身体障がい者数と知的障がい者数の合計
F28: ⑤精神障がい者数と重度身体障がい者数と重度知的障がい者数の合計
C29: 特定短時間労働者 | D29: 週所定労働時間が １０時間以上 ２０時間未満の者 | F29: ⑥精神障がい者数と重度身体障がい者数と重度知的障がい者数の合計
C30: ⑦常用雇用障がい者の数 | G30: =(G24*2)+((G27+G29)*0.5)+G25+G26+G28 -> 0 | H30: 算出方法 （①×2）＋（(④＋⑥)×0.5）＋②＋③＋⑤
B31: ４ 雇用率（小数点以下第３位を四捨五入） | G31: =IF(G22=0," ",ROUND(G30/(G22-(ROUNDDOWN(G22*G18,0))),5)) | H31: 【常用雇用障がい者の数（３⑦）】 | N31: ×100
I32: 【常用雇用労働者の数（２③）】－【常用雇用労働者の数（２③）×10％（端数切捨て）】
A34: 雇用義務のある企業は、公共職業安定所に提出した「障がい者雇用状況報告書」の写しを添付してください。 （雇用義務のある企業は、本申告書の数値に関わらず、原則として「障がい者雇用状況報告書」の数値で判断しますが、 現状と「障がい者雇用状況報告書」の数値に差がある場合は、当該事由が分かる資料を添付してください。）
A38: この報告書は、当該工事に係る総合評価落札方式の評価項目として、障がい者を基準以上に雇用しているかどうかを確認するものであり、他の目的で使用することはありません。

Sheet 2-15次世代・男女共同
A1: 様式２－１５号
A4: 次世代育成支援等の取組状況調書
E6: 工事名： | F6: ='2-1提出書類'!A4 -> 道路舗装工事（芦田川右岸１号幹線・８－２）
E7: 会社名：
A9: 項 目 | D9: 具体的な内容
A10: １ 次世代育成支援の取組状況について （①～③までのいずれかに該当する場合は評価する。） | D10: ① 次世代育成支援対策推進法に基づく「一般事業主行動計画」を策定し、厚生労働省各都道府県労働局長の認定を １ 受けている ２ 受けていない ※認定を受けている場合は、認定通知書の写しを添付すること。
D14: ② 広島県の「仕事と家庭の両立支援の取組制度」に １ 登録している ２ 登録していない ※登録している場合は、登録証の写しを添付すること。
D18: ③ 就業規則に育児休業制度を １ 規定している（又は労使協定を締結している） ２ 規定していない ※定めている場合は、労働基準監督署に届出済の就業規則の写し（労使協定書の写し）を添付すること。 ※就業規則を定めていない場合は、２に○をつけること。
A23: ２ 男女共同参画の取組状況について | D23: 建設業に係る女性技術者を １ 雇用している ２ 雇用していない ※雇用している場合は雇用関係を証するもの、資格を有することを証するもの及び様式２－１６号誓約書を添付すること。 ※様式２－１６号誓約書の提出がない場合、加点はありません。
A28: ３ 建設業労働災害防止協会への加入の有無 | D28: 建設業労働災害防止協会へ １ 加入している ２ 加入していない ※加入している場合は加入していることを証するものの写しを添付すること。
A33: ４ 協力雇用主登録の有無 | D33: 協力雇用主に １ 登録している ２ 登録していない ※登録している場合についても、登録していることを証するものの写しの添付は不要。 （保護観察所へ照会し、登録の有無について確認します。）

Sheet 2-16誓約書
A1: 様式２-１６号
A3: 誓 約 書
H5: 年 月 日
A7: 福 山 市 長 | C7: 様
E9: 所 在 地
E10: 商号又は名称
E11: 代 表 者 名
A14: 工 事 名 | C14: ='2-1提出書類'!A4 -> 道路舗装工事（芦田川右岸１号幹線・８－２）
A17: 次の事項について誓約します。 様式２－１５号項目２「男女共同参画の取組状況について」は事実に基づいて記載したものです。 事実と異なることが判明した場合には、当該入札を無効とされ、また、指名除外の措置を受けても異議はありません。
