Workbook

Sheet 入力用シート※こちらに入力してください※
A1: 事業所名・医療機関名 | H1: ※ | J1: この色の部分を初回提出時は入力してください
M2: 健康状態・合併症の有無の欄には①糖尿病 ②透析 ③免疫不全疾患 ④臓器移植 ⑤副腎皮質ホルモン･抗がん剤治療・免疫抑制剤の内服治療中 ⑥ 結核既往歴 ⑦なし その他何かあれば，病名をご記入ください。
M3: ↓
A4: NO | B4: 所属・部署 | C4: 続柄・職種 | D4: ふりがな | E4: 名前 | F4: 性別 | G4: 生年月日 | H4: 年齢 | I4: 住所 | J4: 電話番号 | K4: 接触期間 （時間） | L4: 接触内容 | M4: 合併症の有無 | N4: 健康状態・使用薬剤等 | O4: 胸部レントゲン結果 | P4: 撮影日 | Q4: ツ反・IGRA検査歴 | R4: 受診日，結果 | S4: ＢＣＧ歴
A5: 1
A6: 2
A7: 3
A8: 4
A9: 5
A10: 6
A11: 7
A12: 8
A13: 9
A14: 10
A15: 11
A16: 12
... A34: 30

Sheet 接触者リスト
C1: 接触者の状況 年 月 日～
J3: 施設名 ( | K3: =入力用シート※こちらに入力してください※!D1 -> 0 | M3: )
E4: 健康状態・合併症の有無の欄には①糖尿病 ②透析 ③免疫不全疾患 ④臓器移植 ⑤副腎皮質ホルモン･抗がん剤治療・免疫抑制剤の内服治療中 ⑥ 結核既往歴 その他何かあれば，病名をご記入ください。
C5: Ｎｏ | D5: 所属・部署 | E5: ふりがな | F5: 性別 | G5: 生年月日 | H5: 住所 | I5: 接触期間 （時間） | J5: 合併症の有無 | K5: 胸部レントゲン | L5: ツベルクリン反応検査・IGRA検査歴 | M5: ＢＣＧ歴
D6: 続柄・職種 | E6: 名 前 | F6: （男・女） | G6: （年齢） | H6: 電話番号 | I6: 接触内容 | J6: （使用薬剤等） | K6: （受診日，結果） | L6: （検査日・結果）
C7: 1 | D7: =入力用シート※こちらに入力してください※!B5 -> 0 | E7: =入力用シート※こちらに入力してください※!D5 -> 0 | F7: =入力用シート※こちらに入力してください※!F5 -> 0 | G7: =入力用シート※こちらに入力してください※!G5 -> 0 | H7: =入力用シート※こちらに入力してください※!I5 -> 0 | I7: =入力用シート※こちらに入力してください※!K5 -> 0 | J7: =入力用シート※こちらに入力してください※!M5 -> 0 | K7: =入力用シート※こちらに入力してください※!O5 -> 0 | L7: =入力用シート※こちらに入力してください※!Q5 -> 0 | M7: =入力用シート※こちらに入力してください※!S5 -> 0
D8: =入力用シート※こちらに入力してください※!C5 -> 0 | E8: =入力用シート※こちらに入力してください※!E5 -> 0 | G8: =入力用シート※こちらに入力してください※!H5 -> 0 | H8: =入力用シート※こちらに入力してください※!J5 -> 0 | I8: =入力用シート※こちらに入力してください※!L5 -> 0 | J8: =入力用シート※こちらに入力してください※!N5 -> 0 | K8: =入力用シート※こちらに入力してください※!P5 -> 0 | L8: =入力用シート※こちらに入力してください※!R5 -> 0
C9: 2 | D9: =入力用シート※こちらに入力してください※!B6 -> 0 | E9: =入力用シート※こちらに入力してください※!D6 -> 0 | F9: =入力用シート※こちらに入力してください※!F6 -> 0 | G9: =入力用シート※こちらに入力してください※!G6 -> 0 | H9: =入力用シート※こちらに入力してください※!I6 -> 0 | I9: =入力用シート※こちらに入力してください※!K6 -> 0 | J9: =入力用シート※こちらに入力してください※!M6 -> 0 | K9: =入力用シート※こちらに入力してください※!O6 -> 0 | L9: =入力用シート※こちらに入力してください※!Q6 -> 0 | M9: =入力用シート※こちらに入力してください※!S6 -> 0
D10: =入力用シート※こちらに入力してください※!C6 -> 0 | E10: =入力用シート※こちらに入力してください※!E6 -> 0 | G10: =入力用シート※こちらに入力してください※!H6 -> 0 | H10: =入力用シート※こちらに入力してください※!J6 -> 0 | I10: =入力用シート※こちらに入力してください※!L6 -> 0 | J10: =入力用シート※こちらに入力してください※!N6 -> 0 | K10: =入力用シート※こちらに入力してください※!P6 -> 0 | L10: =入力用シート※こちらに入力してください※!R6 -> 0
C11: 3 | D11: =入力用シート※こちらに入力してください※!B7 -> 0 | E11: =入力用シート※こちらに入力してください※!D7 -> 0 | F11: =入力用シート※こちらに入力してください※!F7 -> 0 | G11: =入力用シート※こちらに入力してください※!G7 -> 0 | H11: =入力用シート※こちらに入力してください※!I7 -> 0 | I11: =入力用シート※こちらに入力してください※!K7 -> 0 | J11: =入力用シート※こちらに入力してください※!M7 -> 0 | K11: =入力用シート※こちらに入力してください※!O7 -> 0 | L11: =入力用シート※こちらに入力してください※!Q7 -> 0 | M11: =入力用シート※こちらに入力してください※!S7 -> 0
D12: =入力用シート※こちらに入力してください※!C7 -> 0 | E12: =入力用シート※こちらに入力してください※!E7 -> 0 | G12: =入力用シート※こちらに入力してください※!H7 -> 0 | H12: =入力用シート※こちらに入力してください※!J7 -> 0 | I12: =入力用シート※こちらに入力してください※!L7 -> 0 | J12: =入力用シート※こちらに入力してください※!N7 -> 0 | K12: =入力用シート※こちらに入力してください※!P7 -> 0 | L12: =入力用シート※こちらに入力してください※!R7 -> 0
C13: 4 | D13: =入力用シート※こちらに入力してください※!B8 -> 0 | E13: =入力用シート※こちらに入力してください※!D8 -> 0 | F13: =入力用シート※こちらに入力してください※!F8 -> 0 | G13: =入力用シート※こちらに入力してください※!G8 -> 0 | H13: =入力用シート※こちらに入力してください※!I8 -> 0 | I13: =入力用シート※こちらに入力してください※!K8 -> 0 | J13: =入力用シート※こちらに入力してください※!M8 -> 0 | K13: =入力用シート※こちらに入力してください※!O8 -> 0 | L13: =入力用シート※こちらに入力してください※!Q8 -> 0 | M13: =入力用シート※こちらに入力してください※!S8 -> 0
D14: =入力用シート※こちらに入力してください※!C8 -> 0 | E14: =入力用シート※こちらに入力してください※!E8 -> 0 | G14: =入力用シート※こちらに入力してください※!H8 -> 0 | H14: =入力用シート※こちらに入力してください※!J8 -> 0 | I14: =入力用シート※こちらに入力してください※!L8 -> 0 | J14: =入力用シート※こちらに入力してください※!N8 -> 0 | K14: =入力用シート※こちらに入力してください※!P8 -> 0 | L14: =入力用シート※こちらに入力してください※!R8 -> 0
C15: 5 | D15: =入力用シート※こちらに入力してください※!B9 -> 0 | E15: =入力用シート※こちらに入力してください※!D9 -> 0 | F15: =入力用シート※こちらに入力してください※!F9 -> 0 | G15: =入力用シート※こちらに入力してください※!G9 -> 0 | H15: =入力用シート※こちらに入力してください※!I9 -> 0 | I15: =入力用シート※こちらに入力してください※!K9 -> 0 | J15: =入力用シート※こちらに入力してください※!M9 -> 0 | K15: =入力用シート※こちらに入力してください※!O9 -> 0 | L15: =入力用シート※こちらに入力してください※!Q9 -> 0 | M15: =入力用シート※こちらに入力してください※!S9 -> 0
D16: =入力用シート※こちらに入力してください※!C9 -> 0 | E16: =入力用シート※こちらに入力してください※!E9 -> 0 | G16: =入力用シート※こちらに入力してください※!H9 -> 0 | H16: =入力用シート※こちらに入力してください※!J9 -> 0 | I16: =入力用シート※こちらに入力してください※!L9 -> 0 | J16: =入力用シート※こちらに入力してください※!N9 -> 0 | K16: =入力用シート※こちらに入力してください※!P9 -> 0 | L16: =入力用シート※こちらに入力してください※!R9 -> 0
C17: 6 | D17: =入力用シート※こちらに入力してください※!B10 -> 0 | E17: =入力用シート※こちらに入力してください※!D10 -> 0 | F17: =入力用シート※こちらに入力してください※!F10 -> 0 | G17: =入力用シート※こちらに入力してください※!G10 -> 0 | H17: =入力用シート※こちらに入力してください※!I10 -> 0 | I17: =入力用シート※こちらに入力してください※!K10 -> 0 | J17: =入力用シート※こちらに入力してください※!M10 -> 0 | K17: =入力用シート※こちらに入力してください※!O10 -> 0 | L17: =入力用シート※こちらに入力してください※!Q10 -> 0 | M17: =入力用シート※こちらに入力してください※!S10 -> 0
D18: =入力用シート※こちらに入力してください※!C10 -> 0 | E18: =入力用シート※こちらに入力してください※!E10 -> 0 | G18: =入力用シート※こちらに入力してください※!H10 -> 0 | H18: =入力用シート※こちらに入力してください※!J10 -> 0 | I18: =入力用シート※こちらに入力してください※!L10 -> 0 | J18: =入力用シート※こちらに入力してください※!N10 -> 0 | K18: =入力用シート※こちらに入力してください※!P10 -> 0 | L18: =入力用シート※こちらに入力してください※!R10 -> 0
C19: 7 | D19: =入力用シート※こちらに入力してください※!B11 -> 0 | E19: =入力用シート※こちらに入力してください※!D11 -> 0 | F19: =入力用シート※こちらに入力してください※!F11 -> 0 | G19: =入力用シート※こちらに入力してください※!G11 -> 0 | H19: =入力用シート※こちらに入力してください※!I11 -> 0 | I19: =入力用シート※こちらに入力してください※!K11 -> 0 | J19: =入力用シート※こちらに入力してください※!M11 -> 0 | K19: =入力用シート※こちらに入力してください※!O11 -> 0 | L19: =入力用シート※こちらに入力してください※!Q11 -> 0 | M19: =入力用シート※こちらに入力してください※!S11 -> 0
D20: =入力用シート※こちらに入力してください※!C11 -> 0 | E20: =入力用シート※こちらに入力してください※!E11 -> 0 | G20: =入力用シート※こちらに入力してください※!H11 -> 0 | H20: =入力用シート※こちらに入力してください※!J11 -> 0 | I20: =入力用シート※こちらに入力してください※!L11 -> 0 | J20: =入力用シート※こちらに入力してください※!N11 -> 0 | K20: =入力用シート※こちらに入力してください※!P11 -> 0 | L20: =入力用シート※こちらに入力してください※!R11 -> 0
C21: 8 | D21: =入力用シート※こちらに入力してください※!B12 -> 0 | E21: =入力用シート※こちらに入力してください※!D12 -> 0 | F21: =入力用シート※こちらに入力してください※!F12 -> 0 | G21: =入力用シート※こちらに入力してください※!G12 -> 0 | H21: =入力用シート※こちらに入力してください※!I12 -> 0 | I21: =入力用シート※こちらに入力してください※!K12 -> 0 | J21: =入力用シート※こちらに入力してください※!M12 -> 0 | K21: =入力用シート※こちらに入力してください※!O12 -> 0 | L21: =入力用シート※こちらに入力してください※!Q12 -> 0 | M21: =入力用シート※こちらに入力してください※!S12 -> 0
D22: =入力用シート※こちらに入力してください※!C12 -> 0 | E22: =入力用シート※こちらに入力してください※!E12 -> 0 | G22: =入力用シート※こちらに入力してください※!H12 -> 0 | H22: =入力用シート※こちらに入力してください※!J12 -> 0 | I22: =入力用シート※こちらに入力してください※!L12 -> 0 | J22: =入力用シート※こちらに入力してください※!N12 -> 0 | K22: =入力用シート※こちらに入力してください※!P12 -> 0 | L22: =入力用シート※こちらに入力してください※!R12 -> 0
C23: 9 | D23: =入力用シート※こちらに入力してください※!B13 -> 0 | E23: =入力用シート※こちらに入力してください※!D13 -> 0 | F23: =入力用シート※こちらに入力してください※!F13 -> 0 | G23: =入力用シート※こちらに入力してください※!G13 -> 0 | H23: =入力用シート※こちらに入力してください※!I13 -> 0 | I23: =入力用シート※こちらに入力してください※!K13 -> 0 | J23: =入力用シート※こちらに入力してください※!M13 -> 0 | K23: =入力用シート※こちらに入力してください※!O13 -> 0 | L23: =入力用シート※こちらに入力してください※!Q13 -> 0 | M23: =入力用シート※こちらに入力してください※!S13 -> 0
D24: =入力用シート※こちらに入力してください※!C13 -> 0 | E24: =入力用シート※こちらに入力してください※!E13 -> 0 | G24: =入力用シート※こちらに入力してください※!H13 -> 0 | H24: =入力用シート※こちらに入力してください※!J13 -> 0 | I24: =入力用シート※こちらに入力してください※!L13 -> 0 | J24: =入力用シート※こちらに入力してください※!N13 -> 0 | K24: =入力用シート※こちらに入力してください※!P13 -> 0 | L24: =入力用シート※こちらに入力してください※!R13 -> 0
C25: 10 | D25: =入力用シート※こちらに入力してください※!B14 -> 0 | E25: =入力用シート※こちらに入力してください※!D14 -> 0 | F25: =入力用シート※こちらに入力してください※!F14 -> 0 | G25: =入力用シート※こちらに入力してください※!G14 -> 0 | H25: =入力用シート※こちらに入力してください※!I14 -> 0 | I25: =入力用シート※こちらに入力してください※!K14 -> 0 | J25: =入力用シート※こちらに入力してください※!M14 -> 0 | K25: =入力用シート※こちらに入力してください※!O14 -> 0 | L25: =入力用シート※こちらに入力してください※!Q14 -> 0 | M25: =入力用シート※こちらに入力してください※!S14 -> 0
D26: =入力用シート※こちらに入力してください※!C14 -> 0 | E26: =入力用シート※こちらに入力してください※!E14 -> 0 | G26: =入力用シート※こちらに入力してください※!H14 -> 0 | H26: =入力用シート※こちらに入力してください※!J14 -> 0 | I26: =入力用シート※こちらに入力してください※!L14 -> 0 | J26: =入力用シート※こちらに入力してください※!N14 -> 0 | K26: =入力用シート※こちらに入力してください※!P14 -> 0 | L26: =入力用シート※こちらに入力してください※!R14 -> 0
C27: 11 | D27: =入力用シート※こちらに入力してください※!B15 -> 0 | E27: =入力用シート※こちらに入力してください※!D15 -> 0 | F27: =入力用シート※こちらに入力してください※!F15 -> 0 | G27: =入力用シート※こちらに入力してください※!G15 -> 0 | H27: =入力用シート※こちらに入力してください※!I15 -> 0 | I27: =入力用シート※こちらに入力してください※!K15 -> 0 | J27: =入力用シート※こちらに入力してください※!M15 -> 0 | K27: =入力用シート※こちらに入力してください※!O15 -> 0 | L27: =入力用シート※こちらに入力してください※!Q15 -> 0 | M27: =入力用シート※こちらに入力してください※!S15 -> 0
D28: =入力用シート※こちらに入力してください※!C15 -> 0 | E28: =入力用シート※こちらに入力してください※!E15 -> 0 | G28: =入力用シート※こちらに入力してください※!H15 -> 0 | H28: =入力用シート※こちらに入力してください※!J15 -> 0 | I28: =入力用シート※こちらに入力してください※!L15 -> 0 | J28: =入力用シート※こちらに入力してください※!N15 -> 0 | K28: =入力用シート※こちらに入力してください※!P15 -> 0 | L28: =入力用シート※こちらに入力してください※!R15 -> 0
C29: 12 | D29: =入力用シート※こちらに入力してください※!B16 -> 0 | E29: =入力用シート※こちらに入力してください※!D16 -> 0 | F29: =入力用シート※こちらに入力してください※!F16 -> 0 | G29: =入力用シート※こちらに入力してください※!G16 -> 0 | H29: =入力用シート※こちらに入力してください※!I16 -> 0 | I29: =入力用シート※こちらに入力してください※!K16 -> 0 | J29: =入力用シート※こちらに入力してください※!M16 -> 0 | K29: =入力用シート※こちらに入力してください※!O16 -> 0 | L29: =入力用シート※こちらに入力してください※!Q16 -> 0 | M29: =入力用シート※こちらに入力してください※!S16 -> 0
D30: =入力用シート※こちらに入力してください※!C16 -> 0 | E30: =入力用シート※こちらに入力してください※!E16 -> 0 | G30: =入力用シート※こちらに入力してください※!H16 -> 0 | H30: =入力用シート※こちらに入力してください※!J16 -> 0 | I30: =入力用シート※こちらに入力してください※!L16 -> 0 | J30: =入力用シート※こちらに入力してください※!N16 -> 0 | K30: =入力用シート※こちらに入力してください※!P16 -> 0 | L30: =入力用シート※こちらに入力してください※!R16 -> 0
C31: 13 | D31: =入力用シート※こちらに入力してください※!B17 -> 0 | E31: =入力用シート※こちらに入力してください※!D17 -> 0 | F31: =入力用シート※こちらに入力してください※!F17 -> 0 | G31: =入力用シート※こちらに入力してください※!G17 -> 0 | H31: =入力用シート※こちらに入力してください※!I17 -> 0 | I31: =入力用シート※こちらに入力してください※!K17 -> 0 | J31: =入力用シート※こちらに入力してください※!M17 -> 0 | K31: =入力用シート※こちらに入力してください※!O17 -> 0 | L31: =入力用シート※こちらに入力してください※!Q17 -> 0 | M31: =入力用シート※こちらに入力してください※!S17 -> 0
D32: =入力用シート※こちらに入力してください※!C17 -> 0 | E32: =入力用シート※こちらに入力してください※!E17 -> 0 | G32: =入力用シート※こちらに入力してください※!H17 -> 0 | H32: =入力用シート※こちらに入力してください※!J17 -> 0 | I32: =入力用シート※こちらに入力してください※!L17 -> 0 | J32: =入力用シート※こちらに入力してください※!N17 -> 0 | K32: =入力用シート※こちらに入力してください※!P17 -> 0 | L32: =入力用シート※こちらに入力してください※!R17 -> 0
C33: 14 | D33: =入力用シート※こちらに入力してください※!B18 -> 0 | E33: =入力用シート※こちらに入力してください※!D18 -> 0 | F33: =入力用シート※こちらに入力してください※!F18 -> 0 | G33: =入力用シート※こちらに入力してください※!G18 -> 0 | H33: =入力用シート※こちらに入力してください※!I18 -> 0 | I33: =入力用シート※こちらに入力してください※!K18 -> 0 | J33: =入力用シート※こちらに入力してください※!M18 -> 0 | K33: =入力用シート※こちらに入力してください※!O18 -> 0 | L33: =入力用シート※こちらに入力してください※!Q18 -> 0 | M33: =入力用シート※こちらに入力してください※!S18 -> 0
D34: =入力用シート※こちらに入力してください※!C18 -> 0 | E34: =入力用シート※こちらに入力してください※!E18 -> 0 | G34: =入力用シート※こちらに入力してください※!H18 -> 0 | H34: =入力用シート※こちらに入力してください※!J18 -> 0 | I34: =入力用シート※こちらに入力してください※!L18 -> 0 | J34: =入力用シート※こちらに入力してください※!N18 -> 0 | K34: =入力用シート※こちらに入力してください※!P18 -> 0 | L34: =入力用シート※こちらに入力してください※!R18 -> 0
C35: 15 | D35: =入力用シート※こちらに入力してください※!B19 -> 0 | E35: =入力用シート※こちらに入力してください※!D19 -> 0 | F35: =入力用シート※こちらに入力してください※!F19 -> 0 | G35: =入力用シート※こちらに入力してください※!G19 -> 0 | H35: =入力用シート※こちらに入力してください※!I19 -> 0 | I35: =入力用シート※こちらに入力してください※!K19 -> 0 | J35: =入力用シート※こちらに入力してください※!M19 -> 0 | K35: =入力用シート※こちらに入力してください※!O19 -> 0 | L35: =入力用シート※こちらに入力してください※!Q19 -> 0 | M35: =入力用シート※こちらに入力してください※!S19 -> 0
D36: =入力用シート※こちらに入力してください※!C19 -> 0 | E36: =入力用シート※こちらに入力してください※!E19 -> 0 | G36: =入力用シート※こちらに入力してください※!H19 -> 0 | H36: =入力用シート※こちらに入力してください※!J19 -> 0 | I36: =入力用シート※こちらに入力してください※!L19 -> 0 | J36: =入力用シート※こちらに入力してください※!N19 -> 0 | K36: =入力用シート※こちらに入力してください※!P19 -> 0 | L36: =入力用シート※こちらに入力してください※!R19 -> 0
C37: 16 | D37: =入力用シート※こちらに入力してください※!B20 -> 0 | E37: =入力用シート※こちらに入力してください※!D20 -> 0 | F37: =入力用シート※こちらに入力してください※!F20 -> 0 | G37: =入力用シート※こちらに入力してください※!G20 -> 0 | H37: =入力用シート※こちらに入力してください※!I20 -> 0 | I37: =入力用シート※こちらに入力してください※!K20 -> 0 | J37: =入力用シート※こちらに入力してください※!M20 -> 0 | K37: =入力用シート※こちらに入力してください※!O20 -> 0 | L37: =入力用シート※こちらに入力してください※!Q20 -> 0 | M37: =入力用シート※こちらに入力してください※!S20 -> 0
D38: =入力用シート※こちらに入力してください※!C20 -> 0 | E38: =入力用シート※こちらに入力してください※!E20 -> 0 | G38: =入力用シート※こちらに入力してください※!H20 -> 0 | H38: =入力用シート※こちらに入力してください※!J20 -> 0 | I38: =入力用シート※こちらに入力してください※!L20 -> 0 | J38: =入力用シート※こちらに入力してください※!N20 -> 0 | K38: =入力用シート※こちらに入力してください※!P20 -> 0 | L38: =入力用シート※こちらに入力してください※!R20 -> 0
C39: 17 | D39: =入力用シート※こちらに入力してください※!B21 -> 0 | E39: =入力用シート※こちらに入力してください※!D21 -> 0 | F39: =入力用シート※こちらに入力してください※!F21 -> 0 | G39: =入力用シート※こちらに入力してください※!G21 -> 0 | H39: =入力用シート※こちらに入力してください※!I21 -> 0 | I39: =入力用シート※こちらに入力してください※!K21 -> 0 | J39: =入力用シート※こちらに入力してください※!M21 -> 0 | K39: =入力用シート※こちらに入力してください※!O21 -> 0 | L39: =入力用シート※こちらに入力してください※!Q21 -> 0 | M39: =入力用シート※こちらに入力してください※!S21 -> 0
D40: =入力用シート※こちらに入力してください※!C21 -> 0 | E40: =入力用シート※こちらに入力してください※!E21 -> 0 | G40: =入力用シート※こちらに入力してください※!H21 -> 0 | H40: =入力用シート※こちらに入力してください※!J21 -> 0 | I40: =入力用シート※こちらに入力してください※!L21 -> 0 | J40: =入力用シート※こちらに入力してください※!N21 -> 0 | K40: =入力用シート※こちらに入力してください※!P21 -> 0 | L40: =入力用シート※こちらに入力してください※!R21 -> 0
C41: 18 | D41: =入力用シート※こちらに入力してください※!B22 -> 0 | E41: =入力用シート※こちらに入力してください※!D22 -> 0 | F41: =入力用シート※こちらに入力してください※!F22 -> 0 | G41: =入力用シート※こちらに入力してください※!G22 -> 0 | H41: =入力用シート※こちらに入力してください※!I22 -> 0 | I41: =入力用シート※こちらに入力してください※!K22 -> 0 | J41: =入力用シート※こちらに入力してください※!M22 -> 0 | K41: =入力用シート※こちらに入力してください※!O22 -> 0 | L41: =入力用シート※こちらに入力してください※!Q22 -> 0 | M41: =入力用シート※こちらに入力してください※!S22 -> 0
D42: =入力用シート※こちらに入力してください※!C22 -> 0 | E42: =入力用シート※こちらに入力してください※!E22 -> 0 | G42: =入力用シート※こちらに入力してください※!H22 -> 0 | H42: =入力用シート※こちらに入力してください※!J22 -> 0 | I42: =入力用シート※こちらに入力してください※!L22 -> 0 | J42: =入力用シート※こちらに入力してください※!N22 -> 0 | K42: =入力用シート※こちらに入力してください※!P22 -> 0 | L42: =入力用シート※こちらに入力してください※!R22 -> 0
C43: 19 | D43: =入力用シート※こちらに入力してください※!B23 -> 0 | E43: =入力用シート※こちらに入力してください※!D23 -> 0 | F43: =入力用シート※こちらに入力してください※!F23 -> 0 | G43: =入力用シート※こちらに入力してください※!G23 -> 0 | H43: =入力用シート※こちらに入力してください※!I23 -> 0 | I43: =入力用シート※こちらに入力してください※!K23 -> 0 | J43: =入力用シート※こちらに入力してください※!M23 -> 0 | K43: =入力用シート※こちらに入力してください※!O23 -> 0 | L43: =入力用シート※こちらに入力してください※!Q23 -> 0 | M43: =入力用シート※こちらに入力してください※!S23 -> 0
D44: =入力用シート※こちらに入力してください※!C23 -> 0 | E44: =入力用シート※こちらに入力してください※!E23 -> 0 | G44: =入力用シート※こちらに入力してください※!H23 -> 0 | H44: =入力用シート※こちらに入力してください※!J23 -> 0 | I44: =入力用シート※こちらに入力してください※!L23 -> 0 | J44: =入力用シート※こちらに入力してください※!N23 -> 0 | K44: =入力用シート※こちらに入力してください※!P23 -> 0 | L44: =入力用シート※こちらに入力してください※!R23 -> 0
C45: 20 | D45: =入力用シート※こちらに入力してください※!B24 -> 0 | E45: =入力用シート※こちらに入力してください※!D24 -> 0 | F45: =入力用シート※こちらに入力してください※!F24 -> 0 | G45: =入力用シート※こちらに入力してください※!G24 -> 0 | H45: =入力用シート※こちらに入力してください※!I24 -> 0 | I45: =入力用シート※こちらに入力してください※!K24 -> 0 | J45: =入力用シート※こちらに入力してください※!M24 -> 0 | K45: =入力用シート※こちらに入力してください※!O24 -> 0 | L45: =入力用シート※こちらに入力してください※!Q24 -> 0 | M45: =入力用シート※こちらに入力してください※!S24 -> 0
D46: =入力用シート※こちらに入力してください※!C24 -> 0 | E46: =入力用シート※こちらに入力してください※!E24 -> 0 | G46: =入力用シート※こちらに入力してください※!H24 -> 0 | H46: =入力用シート※こちらに入力してください※!J24 -> 0 | I46: =入力用シート※こちらに入力してください※!L24 -> 0 | J46: =入力用シート※こちらに入力してください※!N24 -> 0 | K46: =入力用シート※こちらに入力してください※!P24 -> 0 | L46: =入力用シート※こちらに入力してください※!R24 -> 0
C47: 21 | D47: =入力用シート※こちらに入力してください※!B25 -> 0 | E47: =入力用シート※こちらに入力してください※!D25 -> 0 | F47: =入力用シート※こちらに入力してください※!F25 -> 0 | G47: =入力用シート※こちらに入力してください※!G25 -> 0 | H47: =入力用シート※こちらに入力してください※!I25 -> 0 | I47: =入力用シート※こちらに入力してください※!K25 -> 0 | J47: =入力用シート※こちらに入力してください※!M25 -> 0 | K47: =入力用シート※こちらに入力してください※!O25 -> 0 | L47: =入力用シート※こちらに入力してください※!Q25 -> 0 | M47: =入力用シート※こちらに入力してください※!S25 -> 0
D48: =入力用シート※こちらに入力してください※!C25 -> 0 | E48: =入力用シート※こちらに入力してください※!E25 -> 0 | G48: =入力用シート※こちらに入力してください※!H25 -> 0 | H48: =入力用シート※こちらに入力してください※!I25 -> 0 | I48: =入力用シート※こちらに入力してください※!L25 -> 0 | J48: =入力用シート※こちらに入力してください※!N25 -> 0 | K48: =入力用シート※こちらに入力してください※!P25 -> 0 | L48: =入力用シート※こちらに入力してください※!R25 -> 0
C49: 22 | D49: =入力用シート※こちらに入力してください※!B26 -> 0 | E49: =入力用シート※こちらに入力してください※!D26 -> 0 | F49: =入力用シート※こちらに入力してください※!F26 -> 0 | G49: =入力用シート※こちらに入力してください※!G26 -> 0 | H49: =入力用シート※こちらに入力してください※!I26 -> 0 | I49: =入力用シート※こちらに入力してください※!K26 -> 0 | J49: =入力用シート※こちらに入力してください※!M26 -> 0 | K49: =入力用シート※こちらに入力してください※!O26 -> 0 | L49: =入力用シート※こちらに入力してください※!Q26 -> 0 | M49: =入力用シート※こちらに入力してください※!S26 -> 0
D50: =入力用シート※こちらに入力してください※!C26 -> 0 | E50: =入力用シート※こちらに入力してください※!E26 -> 0 | G50: =入力用シート※こちらに入力してください※!H26 -> 0 | H50: =入力用シート※こちらに入力してください※!J26 -> 0 | I50: =入力用シート※こちらに入力してください※!L26 -> 0 | J50: =入力用シート※こちらに入力してください※!N26 -> 0 | K50: =入力用シート※こちらに入力してください※!P26 -> 0 | L50: =入力用シート※こちらに入力してください※!R26 -> 0
C51: 23 | D51: =入力用シート※こちらに入力してください※!B27 -> 0 | E51: =入力用シート※こちらに入力してください※!D27 -> 0 | F51: =入力用シート※こちらに入力してください※!F27 -> 0 | G51: =入力用シート※こちらに入力してください※!G27 -> 0 | H51: =入力用シート※こちらに入力してください※!I27 -> 0 | I51: =入力用シート※こちらに入力してください※!K27 -> 0 | J51: =入力用シート※こちらに入力してください※!M27 -> 0 | K51: =入力用シート※こちらに入力してください※!O27 -> 0 | L51: =入力用シート※こちらに入力してください※!Q27 -> 0 | M51: =入力用シート※こちらに入力してください※!S27 -> 0
D52: =入力用シート※こちらに入力してください※!C27 -> 0 | E52: =入力用シート※こちらに入力してください※!E27 -> 0 | G52: =入力用シート※こちらに入力してください※!H27 -> 0 | H52: =入力用シート※こちらに入力してください※!J27 -> 0 | I52: =入力用シート※こちらに入力してください※!L27 -> 0 | J52: =入力用シート※こちらに入力してください※!N27 -> 0 | K52: =入力用シート※こちらに入力してください※!P27 -> 0 | L52: =入力用シート※こちらに入力してください※!R27 -> 0
C53: 24 | D53: =入力用シート※こちらに入力してください※!B28 -> 0 | E53: =入力用シート※こちらに入力してください※!D28 -> 0 | F53: =入力用シート※こちらに入力してください※!F28 -> 0 | G53: =入力用シート※こちらに入力してください※!G28 -> 0 | H53: =入力用シート※こちらに入力してください※!I28 -> 0 | I53: =入力用シート※こちらに入力してください※!K28 -> 0 | J53: =入力用シート※こちらに入力してください※!M28 -> 0 | K53: =入力用シート※こちらに入力してください※!O28 -> 0 | L53: =入力用シート※こちらに入力してください※!Q28 -> 0 | M53: =入力用シート※こちらに入力してください※!S28 -> 0
D54: =入力用シート※こちらに入力してください※!C28 -> 0 | E54: =入力用シート※こちらに入力してください※!E28 -> 0 | G54: =入力用シート※こちらに入力してください※!H28 -> 0 | H54: =入力用シート※こちらに入力してください※!J28 -> 0 | I54: =入力用シート※こちらに入力してください※!L28 -> 0 | J54: =入力用シート※こちらに入力してください※!N28 -> 0 | K54: =入力用シート※こちらに入力してください※!P28 -> 0 | L54: =入力用シート※こちらに入力してください※!R28 -> 0
C55: 25 | D55: =入力用シート※こちらに入力してください※!B29 -> 0 | E55: =入力用シート※こちらに入力してください※!D29 -> 0 | F55: =入力用シート※こちらに入力してください※!F29 -> 0 | G55: =入力用シート※こちらに入力してください※!G29 -> 0 | H55: =入力用シート※こちらに入力してください※!I29 -> 0 | I55: =入力用シート※こちらに入力してください※!K29 -> 0 | J55: =入力用シート※こちらに入力してください※!M29 -> 0 | K55: =入力用シート※こちらに入力してください※!O29 -> 0 | L55: =入力用シート※こちらに入力してください※!Q29 -> 0 | M55: =入力用シート※こちらに入力してください※!S29 -> 0
D56: =入力用シート※こちらに入力してください※!C29 -> 0 | E56: =入力用シート※こちらに入力してください※!E29 -> 0 | G56: =入力用シート※こちらに入力してください※!H29 -> 0 | H56: =入力用シート※こちらに入力してください※!J29 -> 0 | I56: =入力用シート※こちらに入力してください※!L29 -> 0 | J56: =入力用シート※こちらに入力してください※!N29 -> 0 | K56: =入力用シート※こちらに入力してください※!P29 -> 0 | L56: =入力用シート※こちらに入力してください※!R29 -> 0
C57: 26 | D57: =入力用シート※こちらに入力してください※!B30 -> 0 | E57: =入力用シート※こちらに入力してください※!D30 -> 0 | F57: =入力用シート※こちらに入力してください※!F30 -> 0 | G57: =入力用シート※こちらに入力してください※!G30 -> 0 | H57: =入力用シート※こちらに入力してください※!I30 -> 0 | I57: =入力用シート※こちらに入力してください※!K30 -> 0 | J57: =入力用シート※こちらに入力してください※!M30 -> 0 | K57: =入力用シート※こちらに入力してください※!O30 -> 0 | L57: =入力用シート※こちらに入力してください※!Q30 -> 0 | M57: =入力用シート※こちらに入力してください※!S30 -> 0
D58: =入力用シート※こちらに入力してください※!C30 -> 0 | E58: =入力用シート※こちらに入力してください※!E30 -> 0 | G58: =入力用シート※こちらに入力してください※!H30 -> 0 | H58: =入力用シート※こちらに入力してください※!J30 -> 0 | I58: =入力用シート※こちらに入力してください※!L30 -> 0 | J58: =入力用シート※こちらに入力してください※!N30 -> 0 | K58: =入力用シート※こちらに入力してください※!P30 -> 0 | L58: =入力用シート※こちらに入力してください※!R30 -> 0
C59: 27 | D59: =入力用シート※こちらに入力してください※!B31 -> 0 | E59: =入力用シート※こちらに入力してください※!D31 -> 0 | F59: =入力用シート※こちらに入力してください※!F31 -> 0 | G59: =入力用シート※こちらに入力してください※!G31 -> 0 | H59: =入力用シート※こちらに入力してください※!I31 -> 0 | I59: =入力用シート※こちらに入力してください※!K31 -> 0 | J59: =入力用シート※こちらに入力してください※!M31 -> 0 | K59: =入力用シート※こちらに入力してください※!O31 -> 0 | L59: =入力用シート※こちらに入力してください※!Q31 -> 0 | M59: =入力用シート※こちらに入力してください※!S31 -> 0
D60: =入力用シート※こちらに入力してください※!C31 -> 0 | E60: =入力用シート※こちらに入力してください※!E31 -> 0 | G60: =入力用シート※こちらに入力してください※!H31 -> 0 | H60: =入力用シート※こちらに入力してください※!J31 -> 0 | I60: =入力用シート※こちらに入力してください※!L31 -> 0 | J60: =入力用シート※こちらに入力してください※!N31 -> 0 | K60: =入力用シート※こちらに入力してください※!P31 -> 0 | L60: =入力用シート※こちらに入力してください※!R31 -> 0
C61: 28 | D61: =入力用シート※こちらに入力してください※!B32 -> 0 | E61: =入力用シート※こちらに入力してください※!D32 -> 0 | F61: =入力用シート※こちらに入力してください※!F32 -> 0 | G61: =入力用シート※こちらに入力してください※!G32 -> 0 | H61: =入力用シート※こちらに入力してください※!I32 -> 0 | I61: =入力用シート※こちらに入力してください※!K32 -> 0 | J61: =入力用シート※こちらに入力してください※!M32 -> 0 | K61: =入力用シート※こちらに入力してください※!O32 -> 0 | L61: =入力用シート※こちらに入力してください※!Q32 -> 0 | M61: =入力用シート※こちらに入力してください※!S32 -> 0
D62: =入力用シート※こちらに入力してください※!C32 -> 0 | E62: =入力用シート※こちらに入力してください※!E32 -> 0 | G62: =入力用シート※こちらに入力してください※!H32 -> 0 | H62: =入力用シート※こちらに入力してください※!J32 -> 0 | I62: =入力用シート※こちらに入力してください※!L32 -> 0 | J62: =入力用シート※こちらに入力してください※!N32 -> 0 | K62: =入力用シート※こちらに入力してください※!P32 -> 0 | L62: =入力用シート※こちらに入力してください※!R32 -> 0
C63: 29 | D63: =入力用シート※こちらに入力してください※!B33 -> 0 | E63: =入力用シート※こちらに入力してください※!D33 -> 0 | F63: =入力用シート※こちらに入力してください※!F33 -> 0 | G63: =入力用シート※こちらに入力してください※!G33 -> 0 | H63: =入力用シート※こちらに入力してください※!I33 -> 0 | I63: =入力用シート※こちらに入力してください※!K33 -> 0 | J63: =入力用シート※こちらに入力してください※!M33 -> 0 | K63: =入力用シート※こちらに入力してください※!O33 -> 0 | L63: =入力用シート※こちらに入力してください※!Q33 -> 0 | M63: =入力用シート※こちらに入力してください※!S33 -> 0
D64: =入力用シート※こちらに入力してください※!C33 -> 0 | E64: =入力用シート※こちらに入力してください※!E33 -> 0 | G64: =入力用シート※こちらに入力してください※!H33 -> 0 | H64: =入力用シート※こちらに入力してください※!J33 -> 0 | I64: =入力用シート※こちらに入力してください※!L33 -> 0 | J64: =入力用シート※こちらに入力してください※!N33 -> 0 | K64: =入力用シート※こちらに入力してください※!P33 -> 0 | L64: =入力用シート※こちらに入力してください※!R33 -> 0
C65: 30 | D65: =入力用シート※こちらに入力してください※!B34 -> 0 | E65: =入力用シート※こちらに入力してください※!D34 -> 0 | F65: =入力用シート※こちらに入力してください※!F34 -> 0 | G65: =入力用シート※こちらに入力してください※!G34 -> 0 | H65: =入力用シート※こちらに入力してください※!I34 -> 0 | I65: =入力用シート※こちらに入力してください※!K34 -> 0 | J65: =入力用シート※こちらに入力してください※!M34 -> 0 | K65: =入力用シート※こちらに入力してください※!O34 -> 0 | L65: =入力用シート※こちらに入力してください※!Q34 -> 0 | M65: =入力用シート※こちらに入力してください※!S34 -> 0
D66: =入力用シート※こちらに入力してください※!C34 -> 0 | E66: =入力用シート※こちらに入力してください※!E34 -> 0 | G66: =入力用シート※こちらに入力してください※!H34 -> 0 | H66: =入力用シート※こちらに入力してください※!J34 -> 0 | I66: =入力用シート※こちらに入力してください※!L34 -> 0 | J66: =入力用シート※こちらに入力してください※!N34 -> 0 | K66: =入力用シート※こちらに入力してください※!P34 -> 0 | L66: =入力用シート※こちらに入力してください※!R34 -> 0
