Workbook

Sheet 入力用シート※こちらに入力してください※
A1: 事業所名・医療機関名 | D1: 〇×クリニック | H1: ※ | J1: この色の部分を初回提出時は入力してください
M2: 健康状態・合併症の有無の欄には①糖尿病 ②透析 ③免疫不全疾患 ④臓器移植 ⑤副腎皮質ホルモン･抗がん剤治療・免疫抑制剤の内服治療中 ⑥ 結核既往歴 ⑦なし その他何かあれば，病名をご記入ください。
M3: ↓
A4: NO | B4: 所属・部署 | C4: 続柄・職種 | D4: ふりがな | E4: 名前 | F4: 性別 | G4: 生年月日 | H4: 年齢 | I4: 住所 | J4: 電話番号 | K4: 接触期間 （時間） | L4: 接触内容 | M4: 合併症の有無 | N4: 健康状態・使用薬剤等 | O4: 胸部レントゲン結果 | P4: 撮影日 | Q4: ツ反・IGRA検査歴 | R4: 受診日，結果 | S4: ＢＣＧ歴
A5: 1 | B5: ○△病棟 | C5: 看護師 | D5: 〇やまはるこ | E5: ○山 春子 | F5: 女 | G5: 27794 | H5: 50 | K5: 8/2～8/16（1日4時間×5日間） | L5: バイタル・排泄移動介助 | M5: ⑤ | N5: 関節リウマチ・ステロイド内服中 | O5: 異常なし | P5: 20XX/5/21 | S5: なし
A6: 2
A7: 3
A8: 4
A9: 5
A10: 6
A11: 7
A12: 8
A13: 9
A14: 10
A15: 11
A16: 12
A17: 13
... A34: 30

Sheet 接触者リスト見本
C1: 接触者の状況 年 月 日～
J3: 施設名 ( | K3: =入力用シート※こちらに入力してください※!D1 -> 〇×クリニック | M3: )
E4: 健康状態・合併症の有無の欄には①糖尿病 ②透析 ③免疫不全疾患 ④臓器移植 ⑤副腎皮質ホルモン･抗がん剤治療・免疫抑制剤の内服治療中 ⑥ 結核既往歴 その他何かあれば，病名をご記入ください。
C5: Ｎｏ | D5: 所属・部署 | E5: ふりがな | F5: 性別 | G5: 生年月日 | H5: 住所 | I5: 接触期間 （時間） | J5: 合併症の有無 | K5: 胸部レントゲン | L5: ツベルクリン反応検査・IGRA検査歴 | M5: ＢＣＧ歴
D6: 続柄・職種 | E6: 名 前 | F6: （男・女） | G6: （年齢） | H6: 電話番号 | I6: 接触内容 | J6: （使用薬剤等） | K6: （受診日，結果） | L6: （検査日・結果）
C7: 1 | D7: ○△病棟 | E7: =入力用シート※こちらに入力してください※!D5 -> 〇やまはるこ | F7: =入力用シート※こちらに入力してください※!F5 -> 女 | G7: =入力用シート※こちらに入力してください※!G5 -> 27794 | H7: =入力用シート※こちらに入力してください※!I5 -> 0 | I7: =入力用シート※こちらに入力してください※!K5 -> 8/2～8/16（1日4時間×5日間） | J7: =入力用シート※こちらに入力してください※!M5 -> ⑤ | K7: =入力用シート※こちらに入力してください※!O5 -> 異常なし | L7: =入力用シート※こちらに入力してください※!Q5 -> 0 | M7: =入力用シート※こちらに入力してください※!S5 -> なし
D8: 看護師 | E8: =入力用シート※こちらに入力してください※!E5 -> ○山 春子 | G8: =入力用シート※こちらに入力してください※!H5 -> 50 | H8: =入力用シート※こちらに入力してください※!J5 -> 0 | I8: =入力用シート※こちらに入力してください※!L5 -> バイタル・排泄移動介助 | J8: =入力用シート※こちらに入力してください※!N5 -> 関節リウマチ・ステロイド内服中 | K8: =入力用シート※こちらに入力してください※!P5 -> 20XX/5/21 | L8: =入力用シート※こちらに入力してください※!R5 -> 0
C9: 2 | D9: =入力用シート※こちらに入力してください※!B6 -> 0 | E9: =入力用シート※こちらに入力してください※!D6 -> 0 | F9: =入力用シート※こちらに入力してください※!F6 -> 0 | G9: =入力用シート※こちらに入力してください※!G6 -> 0 | H9: =入力用シート※こちらに入力してください※!I6 -> 0 | I9: =入力用シート※こちらに入力してください※!K6 -> 0 | J9: =入力用シート※こちらに入力してください※!M6 -> 0 | K9: =入力用シート※こちらに入力してください※!O6 -> 0 | L9: =入力用シート※こちらに入力してください※!Q6 -> 0 | M9: =入力用シート※こちらに入力してください※!S6 -> 0
D10: =入力用シート※こちらに入力してください※!C6 -> 0 | E10: =入力用シート※こちらに入力してください※!E6 -> 0 | G10: =入力用シート※こちらに入力してください※!H6 -> 0 | H10: =入力用シート※こちらに入力してください※!J6 -> 0 | I10: =入力用シート※こちらに入力してください※!L6 -> 0 | J10: =入力用シート※こちらに入力してください※!N6 -> 0 | K10: =入力用シート※こちらに入力してください※!P6 -> 0 | L10: =入力用シート※こちらに入力してください※!R6 -> 0
C11: 3 | D11: =入力用シート※こちらに入力してください※!B7 -> 0 | E11: =入力用シート※こちらに入力してください※!D7 -> 0 | F11: =入力用シート※こちらに入力してください※!F7 -> 0 | G11: =入力用シート※こちらに入力してください※!G7 -> 0 | H11: =入力用シート※こちらに入力してください※!I7 -> 0 | I11: =入力用シート※こちらに入力してください※!K7 -> 0 | J11: =入力用シート※こちらに入力してください※!M7 -> 0 | K11: =入力用シート※こちらに入力してください※!O7 -> 0 | L11: =入力用シート※こちらに入力してください※!Q7 -> 0 | M11: =入力用シート※こちらに入力してください※!S7 -> 0
D12: =入力用シート※こちらに入力してください※!C7 -> 0 | E12: =入力用シート※こちらに入力してください※!E7 -> 0 | G12: =入力用シート※こちらに入力してください※!H7 -> 0 | H12: =入力用シート※こちらに入力してください※!J7 -> 0 | I12: =入力用シート※こちらに入力してください※!L7 -> 0 | J12: =入力用シート※こちらに入力してください※!N7 -> 0 | K12: =入力用シート※こちらに入力してください※!P7 -> 0 | L12: =入力用シート※こちらに入力してください※!R7 -> 0
C13: 4 | D13: =入力用シート※こちらに入力してください※!B8 -> 0 | E13: =入力用シート※こちらに入力してください※!D8 -> 0 | F13: =入力用シート※こちらに入力してください※!F8 -> 0 | G13: =入力用シート※こちらに入力してください※!G8 -> 0 | H13: =入力用シート※こちらに入力してください※!I8 -> 0 | I13: =入力用シート※こちらに入力してください※!K8 -> 0 | J13: =入力用シート※こちらに入力してください※!M8 -> 0 | K13: =入力用シート※こちらに入力してください※!O8 -> 0 | L13: =入力用シート※こちらに入力してください※!Q8 -> 0 | M13: =入力用シート※こちらに入力してください※!S8 -> 0
D14: =入力用シート※こちらに入力してください※!C8 -> 0 | E14: =入力用シート※こちらに入力してください※!E8 -> 0 | G14: =入力用シート※こちらに入力してください※!H8 -> 0 | H14: =入力用シート※こちらに入力してください※!J8 -> 0 | I14: =入力用シート※こちらに入力してください※!L8 -> 0 | J14: =入力用シート※こちらに入力してください※!N8 -> 0 | K14: =入力用シート※こちらに入力してください※!P8 -> 0 | L14: =入力用シート※こちらに入力してください※!R8 -> 0
C15: 5 | D15: =入力用シート※こちらに入力してください※!B9 -> 0 | E15: =入力用シート※こちらに入力してください※!D9 -> 0 | F15: =入力用シート※こちらに入力してください※!F9 -> 0 | G15: =入力用シート※こちらに入力してください※!G9 -> 0 | H15: =入力用シート※こちらに入力してください※!I9 -> 0 | I15: =入力用シート※こちらに入力してください※!K9 -> 0 | J15: =入力用シート※こちらに入力してください※!M9 -> 0 | K15: =入力用シート※こちらに入力してください※!O9 -> 0 | L15: =入力用シート※こちらに入力してください※!Q9 -> 0 | M15: =入力用シート※こちらに入力してください※!S9 -> 0
D16: =入力用シート※こちらに入力してください※!C9 -> 0 | E16: =入力用シート※こちらに入力してください※!E9 -> 0 | G16: =入力用シート※こちらに入力してください※!H9 -> 0 | H16: =入力用シート※こちらに入力してください※!J9 -> 0 | I16: =入力用シート※こちらに入力してください※!L9 -> 0 | J16: =入力用シート※こちらに入力してください※!N9 -> 0 | K16: =入力用シート※こちらに入力してください※!P9 -> 0 | L16: =入力用シート※こちらに入力してください※!R9 -> 0
C17: 6 | D17: =入力用シート※こちらに入力してください※!B10 -> 0 | E17: =入力用シート※こちらに入力してください※!D10 -> 0 | F17: =入力用シート※こちらに入力してください※!F10 -> 0 | G17: =入力用シート※こちらに入力してください※!G10 -> 0 | H17: =入力用シート※こちらに入力してください※!I10 -> 0 | I17: =入力用シート※こちらに入力してください※!K10 -> 0 | J17: =入力用シート※こちらに入力してください※!M10 -> 0 | K17: =入力用シート※こちらに入力してください※!O10 -> 0 | L17: =入力用シート※こちらに入力してください※!Q10 -> 0 | M17: =入力用シート※こちらに入力してください※!S10 -> 0
D18: =入力用シート※こちらに入力してください※!C10 -> 0 | E18: =入力用シート※こちらに入力してください※!E10 -> 0 | G18: =入力用シート※こちらに入力してください※!H10 -> 0 | H18: =入力用シート※こちらに入力してください※!J10 -> 0 | I18: =入力用シート※こちらに入力してください※!L10 -> 0 | J18: =入力用シート※こちらに入力してください※!N10 -> 0 | K18: =入力用シート※こちらに入力してください※!P10 -> 0 | L18: =入力用シート※こちらに入力してください※!R10 -> 0
C19: 7 | D19: =入力用シート※こちらに入力してください※!B11 -> 0 | E19: =入力用シート※こちらに入力してください※!D11 -> 0 | F19: =入力用シート※こちらに入力してください※!F11 -> 0 | G19: =入力用シート※こちらに入力してください※!G11 -> 0 | H19: =入力用シート※こちらに入力してください※!I11 -> 0 | I19: =入力用シート※こちらに入力してください※!K11 -> 0 | J19: =入力用シート※こちらに入力してください※!M11 -> 0 | K19: =入力用シート※こちらに入力してください※!O11 -> 0 | L19: =入力用シート※こちらに入力してください※!Q11 -> 0 | M19: =入力用シート※こちらに入力してください※!S11 -> 0
D20: =入力用シート※こちらに入力してください※!C11 -> 0 | E20: =入力用シート※こちらに入力してください※!E11 -> 0 | G20: =入力用シート※こちらに入力してください※!H11 -> 0 | H20: =入力用シート※こちらに入力してください※!J11 -> 0 | I20: =入力用シート※こちらに入力してください※!L11 -> 0 | J20: =入力用シート※こちらに入力してください※!N11 -> 0 | K20: =入力用シート※こちらに入力してください※!P11 -> 0 | L20: =入力用シート※こちらに入力してください※!R11 -> 0
C21: 8 | D21: =入力用シート※こちらに入力してください※!B12 -> 0 | E21: =入力用シート※こちらに入力してください※!D12 -> 0 | F21: =入力用シート※こちらに入力してください※!F12 -> 0 | G21: =入力用シート※こちらに入力してください※!G12 -> 0 | H21: =入力用シート※こちらに入力してください※!I12 -> 0 | I21: =入力用シート※こちらに入力してください※!K12 -> 0 | J21: =入力用シート※こちらに入力してください※!M12 -> 0 | K21: =入力用シート※こちらに入力してください※!O12 -> 0 | L21: =入力用シート※こちらに入力してください※!Q12 -> 0 | M21: =入力用シート※こちらに入力してください※!S12 -> 0
D22: =入力用シート※こちらに入力してください※!C12 -> 0 | E22: =入力用シート※こちらに入力してください※!E12 -> 0 | G22: =入力用シート※こちらに入力してください※!H12 -> 0 | H22: =入力用シート※こちらに入力してください※!J12 -> 0 | I22: =入力用シート※こちらに入力してください※!L12 -> 0 | J22: =入力用シート※こちらに入力してください※!N12 -> 0 | K22: =入力用シート※こちらに入力してください※!P12 -> 0 | L22: =入力用シート※こちらに入力してください※!R12 -> 0
C23: 9 | D23: =入力用シート※こちらに入力してください※!B13 -> 0 | E23: =入力用シート※こちらに入力してください※!D13 -> 0 | F23: =入力用シート※こちらに入力してください※!F13 -> 0 | G23: =入力用シート※こちらに入力してください※!G13 -> 0 | H23: =入力用シート※こちらに入力してください※!I13 -> 0 | I23: =入力用シート※こちらに入力してください※!K13 -> 0 | J23: =入力用シート※こちらに入力してください※!M13 -> 0 | K23: =入力用シート※こちらに入力してください※!O13 -> 0 | L23: =入力用シート※こちらに入力してください※!Q13 -> 0 | M23: =入力用シート※こちらに入力してください※!S13 -> 0
D24: =入力用シート※こちらに入力してください※!C13 -> 0 | E24: =入力用シート※こちらに入力してください※!E13 -> 0 | G24: =入力用シート※こちらに入力してください※!H13 -> 0 | H24: =入力用シート※こちらに入力してください※!J13 -> 0 | I24: =入力用シート※こちらに入力してください※!L13 -> 0 | J24: =入力用シート※こちらに入力してください※!N13 -> 0 | K24: =入力用シート※こちらに入力してください※!P13 -> 0 | L24: =入力用シート※こちらに入力してください※!R13 -> 0
C25: 10 | D25: =入力用シート※こちらに入力してください※!B14 -> 0 | E25: =入力用シート※こちらに入力してください※!D14 -> 0 | F25: =入力用シート※こちらに入力してください※!F14 -> 0 | G25: =入力用シート※こちらに入力してください※!G14 -> 0 | H25: =入力用シート※こちらに入力してください※!I14 -> 0 | I25: =入力用シート※こちらに入力してください※!K14 -> 0 | J25: =入力用シート※こちらに入力してください※!M14 -> 0 | K25: =入力用シート※こちらに入力してください※!O14 -> 0 | L25: =入力用シート※こちらに入力してください※!Q14 -> 0 | M25: =入力用シート※こちらに入力してください※!S14 -> 0
D26: =入力用シート※こちらに入力してください※!C14 -> 0 | E26: =入力用シート※こちらに入力してください※!E14 -> 0 | G26: =入力用シート※こちらに入力してください※!H14 -> 0 | H26: =入力用シート※こちらに入力してください※!J14 -> 0 | I26: =入力用シート※こちらに入力してください※!L14 -> 0 | J26: =入力用シート※こちらに入力してください※!N14 -> 0 | K26: =入力用シート※こちらに入力してください※!P14 -> 0 | L26: =入力用シート※こちらに入力してください※!R14 -> 0
C27: 11 | D27: =入力用シート※こちらに入力してください※!B15 -> 0 | E27: =入力用シート※こちらに入力してください※!D15 -> 0 | F27: =入力用シート※こちらに入力してください※!F15 -> 0 | G27: =入力用シート※こちらに入力してください※!G15 -> 0 | H27: =入力用シート※こちらに入力してください※!I15 -> 0 | I27: =入力用シート※こちらに入力してください※!K15 -> 0 | J27: =入力用シート※こちらに入力してください※!M15 -> 0 | K27: =入力用シート※こちらに入力してください※!O15 -> 0 | L27: =入力用シート※こちらに入力してください※!Q15 -> 0 | M27: =入力用シート※こちらに入力してください※!S15 -> 0
D28: =入力用シート※こちらに入力してください※!C15 -> 0 | E28: =入力用シート※こちらに入力してください※!E15 -> 0 | G28: =入力用シート※こちらに入力してください※!H15 -> 0 | H28: =入力用シート※こちらに入力してください※!J15 -> 0 | I28: =入力用シート※こちらに入力してください※!L15 -> 0 | J28: =入力用シート※こちらに入力してください※!N15 -> 0 | K28: =入力用シート※こちらに入力してください※!P15 -> 0 | L28: =入力用シート※こちらに入力してください※!R15 -> 0
C29: 12 | D29: =入力用シート※こちらに入力してください※!B16 -> 0 | E29: =入力用シート※こちらに入力してください※!D16 -> 0 | F29: =入力用シート※こちらに入力してください※!F16 -> 0 | G29: =入力用シート※こちらに入力してください※!G16 -> 0 | H29: =入力用シート※こちらに入力してください※!I16 -> 0 | I29: =入力用シート※こちらに入力してください※!K16 -> 0 | J29: =入力用シート※こちらに入力してください※!M16 -> 0 | K29: =入力用シート※こちらに入力してください※!O16 -> 0 | L29: =入力用シート※こちらに入力してください※!Q16 -> 0 | M29: =入力用シート※こちらに入力してください※!S16 -> 0
D30: =入力用シート※こちらに入力してください※!C16 -> 0 | E30: =入力用シート※こちらに入力してください※!E16 -> 0 | G30: =入力用シート※こちらに入力してください※!H16 -> 0 | H30: =入力用シート※こちらに入力してください※!J16 -> 0 | I30: =入力用シート※こちらに入力してください※!L16 -> 0 | J30: =入力用シート※こちらに入力してください※!N16 -> 0 | K30: =入力用シート※こちらに入力してください※!P16 -> 0 | L30: =入力用シート※こちらに入力してください※!R16 -> 0
C31: 13 | D31: =入力用シート※こちらに入力してください※!B17 -> 0 | E31: =入力用シート※こちらに入力してください※!D17 -> 0 | F31: =入力用シート※こちらに入力してください※!F17 -> 0 | G31: =入力用シート※こちらに入力してください※!G17 -> 0 | H31: =入力用シート※こちらに入力してください※!I17 -> 0 | I31: =入力用シート※こちらに入力してください※!K17 -> 0 | J31: =入力用シート※こちらに入力してください※!M17 -> 0 | K31: =入力用シート※こちらに入力してください※!O17 -> 0 | L31: =入力用シート※こちらに入力してください※!Q17 -> 0 | M31: =入力用シート※こちらに入力してください※!S17 -> 0
D32: =入力用シート※こちらに入力してください※!C17 -> 0 | E32: =入力用シート※こちらに入力してください※!E17 -> 0 | G32: =入力用シート※こちらに入力してください※!H17 -> 0 | H32: =入力用シート※こちらに入力してください※!J17 -> 0 | I32: =入力用シート※こちらに入力してください※!L17 -> 0 | J32: =入力用シート※こちらに入力してください※!N17 -> 0 | K32: =入力用シート※こちらに入力してください※!P17 -> 0 | L32: =入力用シート※こちらに入力してください※!R17 -> 0
C33: 14 | D33: =入力用シート※こちらに入力してください※!B18 -> 0 | E33: =入力用シート※こちらに入力してください※!D18 -> 0 | F33: =入力用シート※こちらに入力してください※!F18 -> 0 | G33: =入力用シート※こちらに入力してください※!G18 -> 0 | H33: =入力用シート※こちらに入力してください※!I18 -> 0 | I33: =入力用シート※こちらに入力してください※!K18 -> 0 | J33: =入力用シート※こちらに入力してください※!M18 -> 0 | K33: =入力用シート※こちらに入力してください※!O18 -> 0 | L33: =入力用シート※こちらに入力してください※!Q18 -> 0 | M33: =入力用シート※こちらに入力してください※!S18 -> 0
D34: =入力用シート※こちらに入力してください※!C18 -> 0 | E34: =入力用シート※こちらに入力してください※!E18 -> 0 | G34: =入力用シート※こちらに入力してください※!H18 -> 0 | H34: =入力用シート※こちらに入力してください※!J18 -> 0 | I34: =入力用シート※こちらに入力してください※!L18 -> 0 | J34: =入力用シート※こちらに入力してください※!N18 -> 0 | K34: =入力用シート※こちらに入力してください※!P18 -> 0 | L34: =入力用シート※こちらに入力してください※!R18 -> 0
C35: 15 | D35: =入力用シート※こちらに入力してください※!B19 -> 0 | E35: =入力用シート※こちらに入力してください※!D19 -> 0 | F35: =入力用シート※こちらに入力してください※!F19 -> 0 | G35: =入力用シート※こちらに入力してください※!G19 -> 0 | H35: =入力用シート※こちらに入力してください※!I19 -> 0 | I35: =入力用シート※こちらに入力してください※!K19 -> 0 | J35: =入力用シート※こちらに入力してください※!M19 -> 0 | K35: =入力用シート※こちらに入力してください※!O19 -> 0 | L35: =入力用シート※こちらに入力してください※!Q19 -> 0 | M35: =入力用シート※こちらに入力してください※!S19 -> 0
D36: =入力用シート※こちらに入力してください※!C19 -> 0 | E36: =入力用シート※こちらに入力してください※!E19 -> 0 | G36: =入力用シート※こちらに入力してください※!H19 -> 0 | H36: =入力用シート※こちらに入力してください※!J19 -> 0 | I36: =入力用シート※こちらに入力してください※!L19 -> 0 | J36: =入力用シート※こちらに入力してください※!N19 -> 0 | K36: =入力用シート※こちらに入力してください※!P19 -> 0 | L36: =入力用シート※こちらに入力してください※!R19 -> 0
C37: 16 | D37: =入力用シート※こちらに入力してください※!B20 -> 0 | E37: =入力用シート※こちらに入力してください※!D20 -> 0 | F37: =入力用シート※こちらに入力してください※!F20 -> 0 | G37: =入力用シート※こちらに入力してください※!G20 -> 0 | H37: =入力用シート※こちらに入力してください※!I20 -> 0 | I37: =入力用シート※こちらに入力してください※!K20 -> 0 | J37: =入力用シート※こちらに入力してください※!M20 -> 0 | K37: =入力用シート※こちらに入力してください※!O20 -> 0 | L37: =入力用シート※こちらに入力してください※!Q20 -> 0 | M37: =入力用シート※こちらに入力してください※!S20 -> 0
D38: =入力用シート※こちらに入力してください※!C20 -> 0 | E38: =入力用シート※こちらに入力してください※!E20 -> 0 | G38: =入力用シート※こちらに入力してください※!H20 -> 0 | H38: =入力用シート※こちらに入力してください※!J20 -> 0 | I38: =入力用シート※こちらに入力してください※!L20 -> 0 | J38: =入力用シート※こちらに入力してください※!N20 -> 0 | K38: =入力用シート※こちらに入力してください※!P20 -> 0 | L38: =入力用シート※こちらに入力してください※!R20 -> 0
C39: 17 | D39: =入力用シート※こちらに入力してください※!B21 -> 0 | E39: =入力用シート※こちらに入力してください※!D21 -> 0 | F39: =入力用シート※こちらに入力してください※!F21 -> 0 | G39: =入力用シート※こちらに入力してください※!G21 -> 0 | H39: =入力用シート※こちらに入力してください※!I21 -> 0 | I39: =入力用シート※こちらに入力してください※!K21 -> 0 | J39: =入力用シート※こちらに入力してください※!M21 -> 0 | K39: =入力用シート※こちらに入力してください※!O21 -> 0 | L39: =入力用シート※こちらに入力してください※!Q21 -> 0 | M39: =入力用シート※こちらに入力してください※!S21 -> 0
D40: =入力用シート※こちらに入力してください※!C21 -> 0 | E40: =入力用シート※こちらに入力してください※!E21 -> 0 | G40: =入力用シート※こちらに入力してください※!H21 -> 0 | H40: =入力用シート※こちらに入力してください※!J21 -> 0 | I40: =入力用シート※こちらに入力してください※!L21 -> 0 | J40: =入力用シート※こちらに入力してください※!N21 -> 0 | K40: =入力用シート※こちらに入力してください※!P21 -> 0 | L40: =入力用シート※こちらに入力してください※!R21 -> 0
C41: 18 | D41: =入力用シート※こちらに入力してください※!B22 -> 0 | E41: =入力用シート※こちらに入力してください※!D22 -> 0 | F41: =入力用シート※こちらに入力してください※!F22 -> 0 | G41: =入力用シート※こちらに入力してください※!G22 -> 0 | H41: =入力用シート※こちらに入力してください※!I22 -> 0 | I41: =入力用シート※こちらに入力してください※!K22 -> 0 | J41: =入力用シート※こちらに入力してください※!M22 -> 0 | K41: =入力用シート※こちらに入力してください※!O22 -> 0 | L41: =入力用シート※こちらに入力してください※!Q22 -> 0 | M41: =入力用シート※こちらに入力してください※!S22 -> 0
...

Sheet 【各見本】→
A2: 次の見本があります。参考に作成をお願いします
A3: 医療機関 | B3: ・通院患者
B4: ・同室者
B5: ・病院職員
A6: 介護等施設 | B6: ・入所者
B7: ・通所者
B8: ・施設職員
A9: 会社・事業所 | B9: ・従業員
A10: 学校 | B10: ・学生
B11: ・学校職員

Sheet 通院患者見本
B2: 接触者（通院患者）の状況 ≪見本≫
B4: ※ | C4: は必須項目です。
I10: 医療機関名（ ）
B11: Ｎｏ | C11: ふりがな | D11: 性別 | E11: 生年月日 | F11: 住所 | G11: 接触期間（時間） | H11: 健康状態 | I11: 胸部レントゲン | J11: ツベルクリン反応検査 IGRA検査 | K11: ＢＣＧ歴
C12: 名 前 | D12: （男・女） | E12: （年齢） | F12: 電話番号 | G12: 接触内容 | H12: 合併症の有無 | I12: 撮影日，結果 | J12: （検査日・結果）
B13: 1 | C13: ○やま はるこ | E13: （ 78 ） | G13: 8/２ 30分 | H13: ②③ | I13: 異常なし | J13: 不明 | K13: 有
C14: ○山 春子 | G14: 待合室が同じ | I14: 20XX/8/2 | K14: 無
B15: 2 | C15: ○やま ふゆこ | E15: （ 32 ） | G15: 8/２ 1時間 | I15: 異常なし | J15: ＩＧＲＡ検査 20××/5/8 | K15: 有
C16: ○山 冬子 | G16: 待合室が同じ | I16: 20XX/8/2 | J16: 陰性 | K16: 無
B17: 3 | C17: ○やま △こ | E17: （ ３ ） | G17: 8/２ 1時間 | I17: 未実施 | J17: ツベルクリン反応検査 20××/4/5 | K17: 有
C18: ○山 △子 | G18: 待合室が同じ | J18: 発赤３０mm 硬結なし | K18: 無
B19: 4 | C19: ○やま なつこ | E19: （ 68 ） | G19: 8/２ 30分 | I19: 異常なし | J19: 不明 | K19: 有
C20: ○山 夏子 | G20: 点滴を受けたベッドが左隣 | I20: 20XX/8/2 | K20: 無
B21: 5 | C21: ○やま ○こ | E21: （ 82 ） | G21: 8/２ 1時間 | H21: ④ | I21: 異常なし | J21: ツベルクリン反応検査 20××/4/8 | K21: 有
C22: ○山 ○子 | G22: 点滴を受けたベッドが右隣 | I22: 20XX/8/5 | J22: 発赤４０mm 硬結１５mm | K22: 無
B23: 6 | E23: （ ） | K23: 有
K24: 無
B25: 7 | K25: 有
E26: ( ) | K26: 無
B27: 8 | K27: 有
E28: ( ) | K28: 無
B29: 9 | K29: 有
E30: ( ) | K30: 無

Sheet 同室者　見本
B2: 接触者（同室者）の状況 ≪見本≫
B4: ※ | C4: は必須項目です。
I10: 医療機関名（ ）
B11: Ｎｏ | C11: ふりがな | D11: 性別 | E11: 生年月日 | F11: 住所 | G11: 接触期間（時間） | H11: 健康状態 | I11: 胸部レントゲン | J11: ツベルクリン反応検査 IGRA検査 | K11: ＢＣＧ歴
C12: 名 前 | D12: （男・女） | E12: （年齢） | F12: 電話番号 | G12: 接触内容 | H12: 合併症の有無 | I12: 撮影日，結果 | J12: （検査日・結果）
B13: 1 | C13: ○やま はるこ | E13: （ 78 ） | G13: 8/2～8/7 | I13: 異常なし | J13: 不明 | K13: 有
C14: ○山 春子 | G14: ベッド左隣 | I14: 20XX/8/2 | K14: 無
B15: 2 | C15: ○やま ふゆこ | E15: （ 80 ） | G15: 8/2（3時間のみ） | H15: ② ③ | I15: 異常なし | J15: ＩＧＲＡ検査 20××/5/8 | K15: 有
C16: ○山 冬子 | G16: ベッド向かい | I16: 20XX/8/2 | J16: 陰性 | K16: 無
B17: 3 | C17: ○やま あきこ | E17: （ 86 ） | G17: 8/3～8/7 | I17: 異常なし | J17: ツベルクリン反応検査 20××/4/5 | K17: 有
C18: ○山 秋子 | G18: ベッド向かい | I18: 20XX/8/3 | J18: 発赤３０mm 硬結なし | K18: 無
B19: 4 | C19: ○やま なつこ | E19: （ 93 ） | G19: 8/2～8/4 | I19: 異常なし | J19: 不明 | K19: 有
C20: ○山 夏子 | G20: ベッド はす向かい | I20: 20XX/8/2 | K20: 無
B21: 5 | C21: ○やま ○こ | E21: （ 82 ） | G21: 8/5～8/7 | H21: ④ | I21: 異常なし | J21: ツベルクリン反応検査 20××/4/8 | K21: 有
C22: ○山 ○子 | G22: ベッド はす向かい | I22: 20XX/8/5 | J22: 発赤４０mm 硬結１５mm | K22: 無
B23: 6 | E23: （ ） | K23: 有
K24: 無
B25: 7 | K25: 有
E26: ( ) | K26: 無
B27: 8 | K27: 有
E28: ( ) | K28: 無
B29: 9 | K29: 有
E30: ( ) | K30: 無

Sheet 病院職員　見本
B2: 接触者（病院職員）の状況 ≪見本≫
B4: ※ | D4: は必須項目です。
J10: 医療機関名（ ）
B11: Ｎｏ | C11: 所属及び 職種 | D11: ふりがな | E11: 性別 | F11: 生年月日 | G11: 住所 | H11: 接触期間（時間） | I11: 健康状態 | J11: 胸部レントゲン | K11: ツベルクリン反応検査 IGRA検査 | L11: ＢＣＧ歴
D12: 名 前 | E12: （男・女） | F12: （年齢） | G12: 電話番号 | H12: 接触内容 | I12: 合併症の有無 | J12: 受診日，結果 | K12: （検査日・結果）
B13: 1 | C13: ○△病棟 | D13: ○やま はるこ | F13: （ ３０ ） | H13: 8/2～8/16（1日4時間×5日間） | J13: 異常なし | K13: 不明 | L13: 有
C14: 看護師 | D14: ○山 春子 | H14: バイタル・排泄移動介助 | J14: 20XX/5/20 | L14: 無
B15: 2 | C15: ○△病棟 | D15: ○やま ふゆこ | F15: （ 55 ） | H15: 8/2～8/9（1日4時間×3日間） | I15: ② | J15: 異常なし | K15: ＩＧＲＡ検査 20××/5/8 | L15: 有
C16: 看護師 | D16: ○山 冬子 | H16: バイタル・吸痰（1回） | J16: 20XX/5/21 | K16: 陰性 | L16: 無
B17: 3 | C17: ○△病棟 | D17: ○やま あきこ | F17: （ 26 ） | H17: 8/3，8/5（1日4時間） | J17: 異常なし | K17: ツベルクリン反応検査 20××/4/5 | L17: 有
C18: 看護師 | D18: ○山 秋子 | H18: バイタル・口腔洗浄（1回） | J18: 20XX/5/20 | K18: 発赤３０mm 硬結なし | L18: 無
B19: 4 | C19: 医師 | D19: ○やま □お | F19: （ 43 ） | H19: 8/4（1時間） | J19: 異常なし | K19: 不明 | L19: 有
D20: ○山 □雄 | H20: 診察（咽頭診察あり），胃カメラ検査実施 | J20: 20XX/5/20 | L20: 無
B21: 5 | C21: 歯科医師 | D21: ○やま ○た | F21: （ 41 ） | H21: 8/2（20分） | J21: 異常なし | K21: 不明 | L21: 有
D22: ○山 ○太 | H22: 義歯調整 | J22: 20XX/5/20 | L22: 無
B23: 6 | C23: 外来 | D23: ○やま ○こ | F23: （ 50 ） | H23: 8/4（1時間） | I23: ④ | J23: 異常なし | K23: 不明 | L23: 有
C24: 看護師 | D24: ○山 ○子 | H24: 胃カメラ検査介助（検査前処置実施） | J24: 20XX/5/21 | L24: 無
B25: 7 | C25: 理学療法士 | D25: ○やま △すけ | F25: （ 29 ） | H25: 8/７～8/16（1日1時間×5日間） | J25: 異常なし | K25: ツベルクリン反応検査 20××/4/8 | L25: 有
D26: ○山 △介 | H26: リハビリ | J26: 20XX/5/21 | K26: 発赤４０mm 硬結１５mm | L26: 無
B27: 8 | C27: 歯科衛生士 | D27: ○やま なつこ | F27: （ 29 ） | H27: 8/2～8/16（1回10分×８日間） | I27: 咳症状あり | J27: 異常なし | K27: ＩＧＲＡ検査 20××/5/8 | L27: 有
D28: ○山 夏子 | H28: 口腔ケア | J28: 20XX/5/20 | K28: 陰性 | L28: 無
B29: 9 | L29: 有
F30: ( ) | L30: 無
B31: 10 | L31: 有
F32: ( ) | L32: 無

Sheet 施設職員　見本
B2: 接触者（施設職員）の状況 ≪見本≫
B5: ※ | D5: は必須項目です。
J11: 施設名（ ）
B12: Ｎｏ | C12: 職種 | D12: ふりがな | E12: 性別 | F12: 生年月日 | G12: 住所 | H12: 接触期間（時間） | I12: 健康状態 | J12: 胸部レントゲン | K12: ツベルクリン反応検査 IGRA検査 | L12: ＢＣＧ歴
D13: 名 前 | E13: （男・女） | F13: （年齢） | G13: 電話番号 | H13: 接触内容 | I13: 合併症の有無 | J13: 受診日，結果 | K13: （検査日・結果）
B14: 1 | C14: 主任介護士 | D14: ○やま はるこ | F14: （ 55 ） | H14: 8/1～8/31（1日７時間×22日間） | J14: 異常なし | K14: 不明 | L14: 有
D15: ○山 春子 | H15: 同じ部屋でフロア対応 | J15: 20XX/5/20 | L15: 無
B16: 2 | C16: 看護師 | D16: ○やま ふゆこ | F16: （ 30 ） | H16: 8/1～8/31（1日30分×12日間） | I16: ② | J16: 異常なし | K16: ＩＧＲＡ検査 20××/5/8 | L16: 有
D17: ○山 冬子 | H17: バイタル・点滴・吸痰 | J17: 20XX/5/20 | K17: 陰性 | L17: 無
B18: 3 | C18: 介護士 | D18: ○やま あきこ | F18: （ 26 ） | H18: 8/1～8/31（1日1時間×23日間） | I18: 咳あり | J18: 異常なし | K18: ツベルクリン反応検査 20××/4/5 | L18: 有
D19: ○山 秋子 | H19: おむつ交換，食事介助 | J19: 20XX/5/20 | K19: 発赤３０mm 硬結なし | L19: 無
B20: 4 | C20: 介護士 | D20: ○やま なつこ | F20: （ 43 ） | H20: 8/1～8/31（1日1時間×23日間） | J20: 異常なし | K20: 不明 | L20: 有
D21: ○山 夏子 | H21: おむつ交換，食事介助 | J21: 20XX/5/20 | L21: 無
B22: 5 | C22: 介護士 | D22: ○やま ○お | F22: （ 50 ） | H22: 8/1～8/31（1日30分×12日間） | I22: ④ | J22: 異常なし | K22: 不明 | L22: 有
D23: ○山 ○雄 | H23: 入浴介助（週3回） | J23: 20XX/5/20 | L23: 無
B24: 6 | C24: 介護士 | D24: ○やま △すけ | F24: （ 29 ） | H24: 8/1～8/31（1日3時間×12日間） | J24: 異常なし | K24: ツベルクリン反応検査 20××/4/8 | L24: 有
D25: ○山 △介 | H25: フロア対応，レクリエーション | J25: 20XX/5/20 | K25: 発赤４０mm 硬結１５mm | L25: 無
B26: 7 | C26: 送迎車運転手 | D26: ○やま □ | F26: （ 60 ） | H26: 8/1～8/31（1日30分程度×12日間） | J26: 異常なし | K26: 不明 | L26: 有
D27: ○山 □ | H27: 送迎車を運転。週3回往復30分程度。 | J27: 20XX/5/20 | L27: 無
B28: 8 | C28: 歯科衛生士 | D28: ○やま □み | F28: （ 28 ） | H28: 8/5（30分） | J28: 異常なし | K28: ＩＧＲＡ検査 20××/5/8 | L28: 有
D29: ○山 □美 | H29: 口腔ケア | J29: 20XX/5/20 | K29: 陰性 | L29: 無
B30: 9 | L30: 有
F31: ( ) | L31: 無

Sheet 入所者　見本
B2: 接触者（入所者）の状況 ≪見本≫
B5: ※ | C5: は必須項目です。
I11: 施設名（ ）
B12: Ｎｏ | C12: ふりがな | D12: 性別 | E12: 生年月日 | F12: 住所 | G12: 接触期間（時間） | H12: 健康状態 | I12: 胸部レントゲン | J12: ツベルクリン反応検査 IGRA検査 | K12: ＢＣＧ歴
C13: 名 前 | D13: （男・女） | E13: （年齢） | F13: 電話番号 | G13: 接触内容 | H13: 合併症の有無 | I13: 撮影日，結果 | J13: （検査日・結果）
B14: 1 | C14: ○やま はるこ | E14: （ 78 ） | G14: 8/2～8/7（6日間） | I14: 異常なし | J14: 不明 | K14: 有
C15: ○山 春子 | G15: 同室ベッド左隣。食堂でも左隣。 | I15: 20XX/5/20 | K15: 無
B16: 2 | C16: ○やま ふゆこ | E16: （ 80 ） | G16: 8/2（1日） | H16: ② ③ | I16: 異常なし | J16: ＩＧＲＡ検査 20××/5/8 | K16: 有
C17: ○山 冬子 | G17: 同室ベッド向かい。食堂は右隣。 | I17: 20XX/5/20 | J17: 陰性 | K17: 無
B18: 3 | C18: ○やま あきこ | E18: （ 86 ） | G18: 8/3～8/7（1日2時間×5日間） | I18: 異常なし | J18: ツベルクリン反応検査 20××/4/5 | K18: 有
C19: ○山 秋子 | G19: 食堂で一緒。但し，患者より席は1mほど離れている。 | I19: 20XX/5/20 | J19: 発赤３０mm 硬結なし | K19: 無
B20: 4 | C20: ○やま なつこ | E20: （ 93 ） | G20: 8/2～8/4（1日2時間×3日間） | I20: 異常なし | J20: 不明 | K20: 有
C21: ○山 夏子 | G21: 食堂で一緒。但し，患者より席は3mほど離れている。 | I21: 20XX/5/20 | K21: 無
B22: 5 | C22: ○やま ○こ | E22: （ 82 ） | G22: 8/5～8/7（1日2時間×3日間） | H22: ④ | I22: 異常なし | J22: ツベルクリン反応検査 20××/4/8 | K22: 有
C23: ○山 ○子 | G23: 食堂で一緒。但し，患者より席は1mほど離れている。 | I23: 20XX/5/20 | J23: 発赤４０mm 硬結１５mm | K23: 無
B24: 6 | E24: （ ） | K24: 有
K25: 無
B26: 7 | K26: 有
E27: ( ) | K27: 無
B28: 8 | K28: 有
E29: ( ) | K29: 無
B30: 9 | K30: 有
E31: ( ) | K31: 無

Sheet 通所者　見本
B2: 接触者（利用者）の状況 ≪見本≫
B5: ※ | C5: は必須項目です。
I11: 施設名（ ）
B12: Ｎｏ | C12: ふりがな | D12: 性別 | E12: 生年月日 | F12: 住所 | G12: 接触期間（時間） | H12: 健康状態 | I12: 胸部レントゲン | J12: ツベルクリン反応検査 IGRA検査 | K12: ＢＣＧ歴
C13: 名 前 | D13: （男・女） | E13: （年齢） | F13: 電話番号 | G13: 接触内容 | H13: 合併症の有無 | I13: 撮影日，結果 | J13: （検査日・結果）
B14: 1 | C14: ○やま はるこ | E14: （ 78 ） | G14: 8/2～8/7（1日30分×6日間） | H14: 咳あり | I14: 異常なし | J14: 不明 | K14: 有
C15: ○山 春子 | G15: 送迎車同乗 | I15: 20XX/5/20 | K15: 無
B16: 2 | C16: ○やま ふゆこ | E16: （ 80 ） | G16: 8/2（1日2時間×1日） | H16: ② ③ | I16: 異常なし | J16: ＩＧＲＡ検査 20××/5/8 | K16: 有
C17: ○山 冬子 | G17: 昼食時，隣の席を利用 | I17: 20XX/5/20 | J17: 陰性 | K17: 無
B18: 3 | C18: ○やま あきこ | E18: （ 86 ） | G18: 8/3～8/7（1日1時間×5日間） | I18: 異常なし | J18: ツベルクリン反応検査 20××/4/5 | K18: 有
C19: ○山 秋子 | G19: レクリエーション時，向いの席を利用 | I19: 20XX/5/20 | J19: 発赤３０mm 硬結なし | K19: 無
B20: 4 | C20: ○やま なつこ | E20: （ 93 ） | G20: 8/2～8/4（1日2時間×3日間） | I20: 異常なし | J20: 不明 | K20: 有
C21: ○山 夏子 | G21: 食堂で一緒。但し，患者より席は3mほど離れている。 | I21: 20XX/5/20 | K21: 無
B22: 5 | C22: ○やま ○こ | E22: （ 82 ） | G22: 8/5～8/7（1日2時間30分×3日間） | H22: ④ | I22: 異常なし | J22: ツベルクリン反応検査 20××/4/8 | K22: 有
C23: ○山 ○子 | G23: 食堂で一緒。但し，患者より席は1mほど離れている。送迎バスに毎回15分ほど同乗。 | I23: 20XX/5/20 | J23: 発赤４０mm 硬結１５mm | K23: 無
B24: 6 | E24: （ ） | K24: 有
K25: 無
B26: 7 | K26: 有
E27: ( ) | K27: 無
B28: 8 | K28: 有
E29: ( ) | K29: 無
B30: 9 | K30: 有
E31: ( ) | K31: 無

Sheet 会社・事業所 見本
C2: 接触者の状況 ≪見本≫
C6: ※ | D6: は必須項目です。
K12: 会社名
C13: Ｎｏ | D13: ふりがな | E13: 性別 | F13: 生年月日 | G13: 住所 | H13: 接触期間（時間） | I13: 健康状態 | J13: 胸部レントゲン | K13: ツベルクリン反応検査 IGRA検査 | L13: ＢＣＧ歴
D14: 名 前 | E14: （男・女） | F14: （年齢） | G14: 電話番号 | H14: 接触内容 | I14: 合併症の有無 | J14: 受診日，結果 | K14: （検査日・結果）
C15: 1 | D15: ○やま はるこ | F15: （ ３０ ） | H15: 8/2～9/20（1日8時間×37日間） | J15: 異常なし | K15: 不明 | L15: 有
D16: ○山 春子 | H16: 常に同室で作業。デスク隣接。 | J16: 20XX/5/20 | L16: 無
C17: 2 | D17: ○やま ふゆこ | F17: （ 55 ） | H17: 8/2～8/7（昼休憩1日1時間×５日間） | I17: ② ③ | J17: 異常なし | K17: ＩＧＲＡ検査 20××/5/8 | L17: 有
D18: ○山 冬子 | H18: 常に昼食を一緒にとっていた。 | J18: 20XX/5/20 | K18: 陰性 | L18: 無
C19: 3 | D19: ○やま ○お | F19: （ 26 ） | H19: 8/2～9/20（１日30分程度×30日間） | J19: 異常なし | K19: ツベルクリン反応検査 20××/4/5 | L19: 有
D20: ○山 ○雄 | H20: 喫煙場所で一緒に喫煙。談話。 | J20: 20XX/5/20 | K20: 発赤３０mm 硬結なし | L20: 無
C21: 4 | D21: ○やま あきこ | F21: （ 43 ） | H21: 8/2～9/20（１日8時間×37日間） | J21: 異常なし | K21: 不明 | L21: 有
D22: ○山 秋子 | H22: 常に同室で作業。但し患者デスクより約5メートル離れている。 | J22: 20XX/5/20 | L22: 無
C23: 5 | D23: ○やま なつこ | F23: （ 50 ） | H23: 8/2～8/7（トータル1時間程度×５日間） | I23: ⑤ | J23: 異常なし | K23: 不明 | L23: 有
D24: ○山 夏子 | H24: 当課フロアの清掃。患者と直接の会話なし。 | J24: 20XX/5/20 | L24: 無
C25: 6 | D25: ○やま △すけ | F25: （ 59 ） | H25: 8/3（1時間） | J25: 異常なし | K25: ツベルクリン反応検査 20××/4/8 | L25: 有
D26: ○山 △介 | H26: 会議 | J26: 20XX/5/20 | K26: 発赤４０mm 硬結１５mm | L26: 無
C27: 7 | L27: 有
F28: ( ) | L28: 無
C29: 8 | L29: 有
F30: ( ) | L30: 無
C31: 9 | L31: 有
F32: ( ) | L32: 無

Sheet 学生見本
B2: 接触者（学生）の状況 ≪見本≫
B6: ※ | C6: は必須項目です。
I12: 学校名（ ）
B13: № | C13: ふりがな | D13: 性別 | E13: 生年月日 | F13: 住所 | G13: 接触期間（時間） | H13: 健康状態 | I13: 胸部レントゲン | J13: ツベルクリン反応検査 IGRA検査 | K13: ＢＣＧ歴
C14: 名 前 | D14: （男・女） | E14: （年齢） | F14: 電話番号 | G14: 接触内容 | H14: 合併症の有無 | I14: 受診日，結果 | J14: （検査日・結果）
B15: 1 | C15: ○やま はるこ | E15: （ 21 ） | G15: 1/5～1/30（1日2時間×5日間） | I15: 異常なし | J15: 不明 | K15: 有
C16: ○山 春子 | G16: 同室で講義を受ける。席が左隣。 | I16: 20XX/5/20 | K16: 無
B17: 2 | C17: ○やま ふゆこ | E17: （ 22 ） | G17: 1/12～1/30(1日2時間×10日間) | H17: ⑤ | I17: 異常なし | J17: ＩＧＲＡ検査 20××/5/8 | K17: 有
C18: ○山 冬子 | G18: 同室で講義を受ける。席が右隣。 | I18: 20XX/5/20 | J18: 陰性 | K18: 無
B19: 3 | C19: ○やま あきこ | E19: （ 21 ） | G19: 1/5（1日1時間） | I19: 異常なし | J19: ツベルクリン反応検査 20××/4/5 | K19: 有
C20: ○山 秋子 | G20: 同室で講義を受ける。但し席は1m程離れている。 | I20: 20XX/5/20 | J20: 発赤３０mm 硬結なし | K20: 無
B21: 4 | C21: ○やま なつこ | E21: （ 21 ） | G21: 1/5～1/28（1日3時間×7日間） | H21: ⑥ | I21: 異常なし | J21: 不明 | K21: 有
C22: ○山 夏子 | G22: 同室で講義を受けるが席は約5メートル離れている。但し昼食を常に一緒にとる。 | I22: 20XX/5/20 | K22: 無
B23: 5 | K23: 有
K24: 無
B25: 6 | K25: 有
E26: ( ) | K26: 無
B27: 7 | K27: 有
E28: ( ) | K28: 無
B29: 8 | K29: 有
E30: ( ) | K30: 無

Sheet 学校職員見本
B2: 接触者（学校職員）の状況 ≪見本≫
B6: ※ | D6: は必須項目です。
J12: 学校名（ ）
B13: № | C13: 職種 | D13: ふりがな | E13: 性別 | F13: 生年月日 | G13: 住所 | H13: 接触期間（時間） | I13: 健康状態 | J13: 胸部レントゲン | K13: ツベルクリン反応検査 IGRA検査 | L13: ＢＣＧ歴
D14: 名 前 | E14: （男・女） | F14: （年齢） | G14: 電話番号 | H14: 接触内容 | I14: 合併症の有無 | J14: 受診日，結果 | K14: （検査日・結果）
B15: 1 | C15: 教諭 | D15: ○やま はるこ | F15: （ 48 ） | H15: 1/5～1/30（1日1時間×5日間） | I15: ① | J15: 異常なし | K15: 不明 | L15: 有
D16: ○山 春子 | H16: 常に近い距離で講義。 | J16: 20XX/5/20 | L16: 無
B17: 2 | C17: 教諭 | D17: ○やま ふゆこ | F17: （ 30 ） | H17: 1/12～1/30(1日2時間×10日間) | J17: 異常なし | K17: ＩＧＲＡ検査 20××/5/8 | L17: 有
D18: ○山 冬子 | H18: 音楽の授業で同室で歌をうたう。 | J18: 20XX/5/20 | K18: 陰性 | L18: 無
B19: 3 | C19: 事務員 | D19: ○やま あきこ | F19: （ 55 ） | H19: 1/5～1/28（1日30分×7日間） | J19: 異常なし | K19: ツベルクリン反応検査 20××/4/5 | L19: 有
D20: ○山 秋子 | H20: 昼食を毎日一緒に摂る。 | J20: 20XX/5/20 | K20: 発赤３０mm 硬結なし | L20: 無
B21: 4 | L21: 有
L22: 無
B23: 5 | L23: 有
L24: 無
B25: 6 | L25: 有
L26: 無
B27: 7 | L27: 有
F28: ( ) | L28: 無
B29: 8 | L29: 有
F30: ( ) | L30: 無
B31: 9 | L31: 有
F32: ( ) | L32: 無
